BEGIN:VCALENDAR
VERSION:2.0
PRODID:-//Listuguj Mi’gmaq Government - ECPv6.1.3//NONSGML v1.0//EN
CALSCALE:GREGORIAN
METHOD:PUBLISH
X-ORIGINAL-URL:https://listuguj.ca
X-WR-CALDESC:Events for Listuguj Mi’gmaq Government
REFRESH-INTERVAL;VALUE=DURATION:PT1H
X-Robots-Tag:noindex
X-PUBLISHED-TTL:PT1H
BEGIN:VTIMEZONE
TZID:America/Halifax
BEGIN:DAYLIGHT
TZOFFSETFROM:-0400
TZOFFSETTO:-0300
TZNAME:ADT
DTSTART:20240310T060000
END:DAYLIGHT
BEGIN:STANDARD
TZOFFSETFROM:-0300
TZOFFSETTO:-0400
TZNAME:AST
DTSTART:20241103T050000
END:STANDARD
END:VTIMEZONE
BEGIN:VEVENT
DTSTART;TZID=America/Halifax:20240322T170000
DTEND;TZID=America/Halifax:20240322T200000
DTSTAMP:20260419T225629
CREATED:20240319T140301Z
LAST-MODIFIED:20240319T140301Z
UID:28401-1711126800-1711137600@listuguj.ca
SUMMARY:Siggw Gathering
DESCRIPTION:The Listuguj Education Department is holding a Siggw Gathering this Friday\, March 22nd from 5:00 PM to 8:00 PM at AGS following their Siggw Culture Day. \n  \nThere will be a Lusgnign Contest as part of the gathering. You can enter your lusgnign or moon by 5:00 PM for a chance to win one of three prizes. Make sure to bring enough for everyone to try a sample. If possible\, please register for the contest by calling 418-788-2248 and leaving your name with the receptionist. \n 
URL:https://listuguj.ca/event/siggw-gathering/
LOCATION:Alaqsite’w Gitpu School
CATEGORIES:Alaqsite’w Gitpu School
ATTACH;FMTTYPE=image/png:https://listuguj.ca/wp-content/uploads/2021/08/LMG-Logo.png
END:VEVENT
END:VCALENDAR