BEGIN:VCALENDAR
VERSION:2.0
PRODID:-//Listuguj Mi’gmaq Government - ECPv6.1.3//NONSGML v1.0//EN
CALSCALE:GREGORIAN
METHOD:PUBLISH
X-WR-CALNAME:Listuguj Mi’gmaq Government
X-ORIGINAL-URL:https://listuguj.ca
X-WR-CALDESC:Events for Listuguj Mi’gmaq Government
REFRESH-INTERVAL;VALUE=DURATION:PT1H
X-Robots-Tag:noindex
X-PUBLISHED-TTL:PT1H
BEGIN:VTIMEZONE
TZID:America/Halifax
BEGIN:DAYLIGHT
TZOFFSETFROM:-0400
TZOFFSETTO:-0300
TZNAME:ADT
DTSTART:20230312T060000
END:DAYLIGHT
BEGIN:STANDARD
TZOFFSETFROM:-0300
TZOFFSETTO:-0400
TZNAME:AST
DTSTART:20231105T050000
END:STANDARD
END:VTIMEZONE
BEGIN:VEVENT
DTSTART;VALUE=DATE:20231113
DTEND;VALUE=DATE:20231114
DTSTAMP:20260424T092538
CREATED:20231024T135037Z
LAST-MODIFIED:20231024T135037Z
UID:27801-1699833600-1699919999@listuguj.ca
SUMMARY:LMG Closed for Remembrance Day
DESCRIPTION:
URL:https://listuguj.ca/event/lmg-closed-for-remembrance-day-3/
LOCATION:Quebec
END:VEVENT
BEGIN:VEVENT
DTSTART;TZID=America/Halifax:20231115T073000
DTEND;TZID=America/Halifax:20231115T200000
DTSTAMP:20260424T092538
CREATED:20231110T164957Z
LAST-MODIFIED:20231110T164957Z
UID:27903-1700033400-1700078400@listuguj.ca
SUMMARY:Listuguj Indigenous Governance Symposium
DESCRIPTION:A Listuguj Indigenous Governance Symposium is coming up next Wednesday November 15th and Thursday November 16th at the Listuguj Community Development Centre. \nPlease see the poster with the schedule. \n 
URL:https://listuguj.ca/event/listuguj-indigenous-governance-symposium/
LOCATION:Listuguj Community Hall
END:VEVENT
BEGIN:VEVENT
DTSTART;TZID=America/Halifax:20231115T090000
DTEND;TZID=America/Halifax:20231115T163000
DTSTAMP:20260424T092538
CREATED:20231024T133703Z
LAST-MODIFIED:20231024T133741Z
UID:27771-1700038800-1700065800@listuguj.ca
SUMMARY:Solar Panel Training
DESCRIPTION:
URL:https://listuguj.ca/event/solar-panel-training/
LOCATION:Listuguj Mi’gmaq Development Centre\, 2 Pacific Drive\, Listuguj\, Quebec\, G0C 2R0\, Canada
END:VEVENT
BEGIN:VEVENT
DTSTART;TZID=America/Halifax:20231116T083000
DTEND;TZID=America/Halifax:20231116T120000
DTSTAMP:20260424T092538
CREATED:20231024T133913Z
LAST-MODIFIED:20231024T133913Z
UID:27782-1700123400-1700136000@listuguj.ca
SUMMARY:Solar Panel Training
DESCRIPTION:
URL:https://listuguj.ca/event/solar-panel-training-2/
LOCATION:Listuguj Mi’gmaq Development Centre\, 2 Pacific Drive\, Listuguj\, Quebec\, G0C 2R0\, Canada
END:VEVENT
BEGIN:VEVENT
DTSTART;TZID=America/Halifax:20231116T090000
DTEND;TZID=America/Halifax:20231116T190000
DTSTAMP:20260424T092538
CREATED:20231110T165253Z
LAST-MODIFIED:20231110T165316Z
UID:27908-1700125200-1700161200@listuguj.ca
SUMMARY:Listuguj Indigenous Governance Symposium
DESCRIPTION:A Listuguj Indigenous Governance Symposium is coming up next Wednesday November 15th and Thursday November 16th at the Listuguj Community Development Centre. \nPlease see the poster with the schedule. \n 
URL:https://listuguj.ca/event/listuguj-indigenous-governance-symposium-2/
LOCATION:Quebec
END:VEVENT
BEGIN:VEVENT
DTSTART;TZID=America/Halifax:20231117T133000
DTEND;TZID=America/Halifax:20231117T163000
DTSTAMP:20260424T092538
CREATED:20231110T131508Z
LAST-MODIFIED:20231110T131528Z
UID:27894-1700227800-1700238600@listuguj.ca
SUMMARY:Listuguj Wellness Renewal Initiative Wellness Walk
DESCRIPTION:Listuguj Community Health Services and the Listuguj Wellness Renewal Initiative will be holding a wellness walk in the community on Friday\, November 17th to kick off National Addictions Awareness Week.\n\n\n\n\nWe invite everyone to meet at the GINU parking lot at 1:30 PM. The walk will begin at 2PM and will end at the Listuguj Community Development Centre. Swag will be handed out at this time.\n\n\n\n\nThere will be guest speakers sharing knowledge about wellness in the community. A spaghetti supper will be provided.\n\n\n\n\nIf any Elders require transportation for this event\, please contact the Listuguj Community Health Services at 418-788-2155. Spaces for transportation are limited.\n\n\n\n\nFor information\, please contact 418-788-0351.\n\n\n\n\nWe hope to see you all there!
URL:https://listuguj.ca/event/listuguj-wellness-renewal-initiative-wellness-walk/
LOCATION:Listuguj Community Hall
END:VEVENT
BEGIN:VEVENT
DTSTART;TZID=America/Halifax:20231118T130000
DTEND;TZID=America/Halifax:20231118T150000
DTSTAMP:20260424T092538
CREATED:20231024T135726Z
LAST-MODIFIED:20231108T170357Z
UID:27806-1700312400-1700319600@listuguj.ca
SUMMARY:Toy Bingo
DESCRIPTION:
URL:https://listuguj.ca/event/toy-bingo/
LOCATION:Listuguj Community Development Centre\, 42 Dundee Road\, Listuguj\, Quebec\, G0C 2R0\, Canada
CATEGORIES:Listuguj Community & Social Services Directorate
END:VEVENT
BEGIN:VEVENT
DTSTART;TZID=America/Halifax:20231121T090000
DTEND;TZID=America/Halifax:20231121T163000
DTSTAMP:20260424T092538
CREATED:20231120T150101Z
LAST-MODIFIED:20231120T150142Z
UID:27927-1700557200-1700584200@listuguj.ca
SUMMARY:Listuguj Restorative Justice Symposium
DESCRIPTION:The Listuguj Restorative Justice Program will be holding a Justice Symposium November 21 at the Community Center\, beginning at 9AM.\n\n\n\n\nTo RSVP\, please contact Tracy Morrison at 418-788-0351.\n\n\n\n\nSee the poster for more information.
URL:https://listuguj.ca/event/listuguj-restorative-justice-symposium-2/
LOCATION:Listuguj Community Hall
CATEGORIES:Restorative Justice
END:VEVENT
BEGIN:VEVENT
DTSTART;TZID=America/Halifax:20231123T170000
DTEND;TZID=America/Halifax:20231123T190000
DTSTAMP:20260424T092538
CREATED:20231110T130616Z
LAST-MODIFIED:20231110T130616Z
UID:27885-1700758800-1700766000@listuguj.ca
SUMMARY:Wrapped In Courage Gala
DESCRIPTION:There will be a Wrapped In Courage Gala on November 23rd at the Listuguj Community Centre. This event is sponsored by Listuguj Haven House.\n\n\n\n\nThursday November 23rd\, 2023\nDoors open at 4pm\nOnly 120 seats available – 75 seats are set aside for registration by calling us at Haven House\, the remaining seats will be available the night of the event.\n\n\n\n\nSee poster for details.
URL:https://listuguj.ca/event/wrapped-in-courage-gala/
LOCATION:Listuguj Community Hall
END:VEVENT
END:VCALENDAR