BEGIN:VCALENDAR
VERSION:2.0
PRODID:-//Listuguj Mi’gmaq Government - ECPv6.1.3//NONSGML v1.0//EN
CALSCALE:GREGORIAN
METHOD:PUBLISH
X-ORIGINAL-URL:https://listuguj.ca
X-WR-CALDESC:Events for Listuguj Mi’gmaq Government
REFRESH-INTERVAL;VALUE=DURATION:PT1H
X-Robots-Tag:noindex
X-PUBLISHED-TTL:PT1H
BEGIN:VTIMEZONE
TZID:America/Halifax
BEGIN:DAYLIGHT
TZOFFSETFROM:-0400
TZOFFSETTO:-0300
TZNAME:ADT
DTSTART:20230312T060000
END:DAYLIGHT
BEGIN:STANDARD
TZOFFSETFROM:-0300
TZOFFSETTO:-0400
TZNAME:AST
DTSTART:20231105T050000
END:STANDARD
END:VTIMEZONE
BEGIN:VEVENT
DTSTART;VALUE=DATE:20231001
DTEND;VALUE=DATE:20231002
DTSTAMP:20260422T134359
CREATED:20230912T172730Z
LAST-MODIFIED:20230912T173728Z
UID:27404-1696118400-1696204799@listuguj.ca
SUMMARY:Treaty Day
DESCRIPTION:
URL:https://listuguj.ca/event/treaty-day/
LOCATION:Quebec
END:VEVENT
BEGIN:VEVENT
DTSTART;VALUE=DATE:20231002
DTEND;VALUE=DATE:20231003
DTSTAMP:20260422T134359
CREATED:20230912T173542Z
LAST-MODIFIED:20230912T173542Z
UID:27418-1696204800-1696291199@listuguj.ca
SUMMARY:LMG Closed for National Truth & Reconciliation Day
DESCRIPTION:
URL:https://listuguj.ca/event/lmg-closed-for-national-truth-reconciliation-day/
LOCATION:Quebec
END:VEVENT
BEGIN:VEVENT
DTSTART;VALUE=DATE:20231003
DTEND;VALUE=DATE:20231004
DTSTAMP:20260422T134359
CREATED:20230912T173704Z
LAST-MODIFIED:20230912T173704Z
UID:27422-1696291200-1696377599@listuguj.ca
SUMMARY:LMG Closed for Treaty Day
DESCRIPTION:
URL:https://listuguj.ca/event/lmg-closed-for-treaty-day-4/
LOCATION:Quebec
END:VEVENT
BEGIN:VEVENT
DTSTART;TZID=America/Halifax:20231004T180000
DTEND;TZID=America/Halifax:20231004T200000
DTSTAMP:20260422T134359
CREATED:20230925T132224Z
LAST-MODIFIED:20230925T132224Z
UID:27553-1696442400-1696449600@listuguj.ca
SUMMARY:Cancer Awareness Walk
DESCRIPTION:
URL:https://listuguj.ca/event/cancer-awareness-walk/
LOCATION:Jack Wysote Memorial Ball Field
END:VEVENT
BEGIN:VEVENT
DTSTART;VALUE=DATE:20231009
DTEND;VALUE=DATE:20231010
DTSTAMP:20260422T134359
CREATED:20230912T174032Z
LAST-MODIFIED:20230912T174046Z
UID:27429-1696809600-1696895999@listuguj.ca
SUMMARY:LMG Closed for Thanksgiving
DESCRIPTION:
URL:https://listuguj.ca/event/thanksgiving/
LOCATION:Quebec
END:VEVENT
BEGIN:VEVENT
DTSTART;VALUE=DATE:20231027
DTEND;VALUE=DATE:20231028
DTSTAMP:20260422T134359
CREATED:20231024T133331Z
LAST-MODIFIED:20231024T133331Z
UID:27766-1698364800-1698451199@listuguj.ca
SUMMARY:Halloween Decoration Contest
DESCRIPTION:
URL:https://listuguj.ca/event/halloween-decoration-contest/
LOCATION:Listuguj Police Department\, 3 Lnu Street\, Listuguj\, Quebec\, G0C 2R0\, Canada
END:VEVENT
BEGIN:VEVENT
DTSTART;VALUE=DATE:20231027
DTEND;VALUE=DATE:20231030
DTSTAMP:20260422T134359
CREATED:20231024T134850Z
LAST-MODIFIED:20231024T134850Z
UID:27787-1698364800-1698623999@listuguj.ca
SUMMARY:Men's Moose Hunt Retreat
DESCRIPTION:Listuguj Culture and Family Support – Family Violence Prevention Program will be hosting a Men’s Moose Hunt Retreat on October 27\, 28 and 29 at Erwin Molley’s Camp.\n\n\nThere will be activities in between the hunt and food will be provided. All experience levels welcome.\n\n\nFor more information\, please contact Mitchell Isaac 506-787-0080 or Erwin Molley 418-788-3150.
URL:https://listuguj.ca/event/mens-moose-hunt-retreat/
LOCATION:Erwin’s Camp
END:VEVENT
BEGIN:VEVENT
DTSTART;TZID=America/Halifax:20231028T100000
DTEND;TZID=America/Halifax:20231028T150000
DTSTAMP:20260422T134359
CREATED:20231017T135323Z
LAST-MODIFIED:20231024T134047Z
UID:27642-1698487200-1698505200@listuguj.ca
SUMMARY:Gepmite'tmg Mi'gmawei Celebration
DESCRIPTION:Join the Mi’gmaw Language Revitilization team for their Gepmite’tmg Mi’gmawei celebration on October 28 from 10AM-2PM.\n\n\n\nTo register\, please contact Mary-Beth Wysote\, Mi’gmaw Language Revitilization Coordinator at mary-beth.wysote@listuguj.ca\n\n\n\nSee the poster below for more details!
URL:https://listuguj.ca/event/gepmitetmg-migmawei-celebration/
LOCATION:Cross Point Hall\, 41 Rue Lasalle\, Pointe-à-la-Croix\, QC
END:VEVENT
BEGIN:VEVENT
DTSTART;TZID=America/Halifax:20231030T173000
DTEND;TZID=America/Halifax:20231030T200000
DTSTAMP:20260422T134359
CREATED:20231024T133151Z
LAST-MODIFIED:20231024T133151Z
UID:27761-1698687000-1698696000@listuguj.ca
SUMMARY:Halloween Event
DESCRIPTION:
URL:https://listuguj.ca/event/halloween-event/
LOCATION:Listuguj Community Hall
END:VEVENT
END:VCALENDAR