BEGIN:VCALENDAR
VERSION:2.0
PRODID:-//Listuguj Mi’gmaq Government - ECPv6.1.3//NONSGML v1.0//EN
CALSCALE:GREGORIAN
METHOD:PUBLISH
X-WR-CALNAME:Listuguj Mi’gmaq Government
X-ORIGINAL-URL:https://listuguj.ca
X-WR-CALDESC:Events for Listuguj Mi’gmaq Government
REFRESH-INTERVAL;VALUE=DURATION:PT1H
X-Robots-Tag:noindex
X-PUBLISHED-TTL:PT1H
BEGIN:VTIMEZONE
TZID:America/Halifax
BEGIN:DAYLIGHT
TZOFFSETFROM:-0400
TZOFFSETTO:-0300
TZNAME:ADT
DTSTART:20190310T060000
END:DAYLIGHT
BEGIN:STANDARD
TZOFFSETFROM:-0300
TZOFFSETTO:-0400
TZNAME:AST
DTSTART:20191103T050000
END:STANDARD
END:VTIMEZONE
BEGIN:VEVENT
DTSTART;TZID=America/Halifax:20191221T160000
DTEND;TZID=America/Halifax:20191221T200000
DTSTAMP:20260424T061359
CREATED:20191209T144755Z
LAST-MODIFIED:20191217T135844Z
UID:16215-1576944000-1576958400@listuguj.ca
SUMMARY:Family Christmas Gathering
DESCRIPTION:The LMG Natural Resources Directorate and the Office of Chief and Council will be hosting a Family Christmas Gathering on Saturday\, December 21st\, at the Listuguj Community Development Centre (Bingo Hall). Doors open at 4:00 p.m. and dinner catered by La Source will be served at 5:00 p.m. \nThey are currently sold out of tickets to this event. If you have a ticket and cannot attend\, please return it to Joanne Martin at the Natural Resources building so that other community members can attend. She can be reached at 418-788-3022. \nWe are encouraging donations to the Listuguj Food Bank of either non-perishable food items or grocery store gift cards. All donations will give you more chances to win prizes.
URL:https://listuguj.ca/event/family-christmas-gathering/
LOCATION:Listuguj Community Development Centre\, 42 Dundee Road\, Listuguj\, Quebec\, G0C 2R0\, Canada
CATEGORIES:Chief & Council,Listuguj Natural Resources Directorate
ATTACH;FMTTYPE=image/jpeg:https://listuguj.ca/wp-content/uploads/2019/12/Natural-Resources-Christmas-Gathering.jpeg
END:VEVENT
BEGIN:VEVENT
DTSTART;TZID=America/Halifax:20191218T103000
DTEND;TZID=America/Halifax:20191218T163000
DTSTAMP:20260424T061359
CREATED:20191218T133743Z
LAST-MODIFIED:20191218T133743Z
UID:16260-1576665000-1576686600@listuguj.ca
SUMMARY:Turkey Basket Pick Up
DESCRIPTION:If you signed up to receive a turkey basket this year\, they will be ready for pick up at 10:30 a.m. today. Please note that there will be no delivery. The baskets can be picked up at the Listuguj Community Development Centre (Bingo Hall).
URL:https://listuguj.ca/event/turkey-basket-pick-up/
LOCATION:Listuguj Community Development Centre\, 42 Dundee Road\, Listuguj\, Quebec\, G0C 2R0\, Canada
CATEGORIES:Listuguj Economic Development Unit,Listuguj Natural Resources Directorate
ATTACH;FMTTYPE=image/png:https://listuguj.ca/wp-content/uploads/2019/04/20046535_10158938412575328_3188858954418365716_n.png
END:VEVENT
BEGIN:VEVENT
DTSTART;VALUE=DATE:20191212
DTEND;VALUE=DATE:20191213
DTSTAMP:20260424T061359
CREATED:20191204T154022Z
LAST-MODIFIED:20191204T172325Z
UID:16201-1576108800-1576195199@listuguj.ca
SUMMARY:Deadline to Sign Up for Christmas Turkey Basket
DESCRIPTION:Christmas turkey baskets will once again be given out this year. Elders and social assistance clients can sign up to receive a basket by calling 418-788-3000 or stopping by the Listuguj Community Development Centre at 42 Dundee Road. The deadline to sign up is Thursday\, December 12th.
URL:https://listuguj.ca/event/deadline-to-sign-up-for-christmas-turkey-basket/
LOCATION:Listuguj Community Development Centre\, 42 Dundee Road\, Listuguj\, Quebec\, G0C 2R0\, Canada
CATEGORIES:Listuguj Economic Development Unit,Listuguj Natural Resources Directorate
ATTACH;FMTTYPE=image/png:https://listuguj.ca/wp-content/uploads/2019/04/20046535_10158938412575328_3188858954418365716_n.png
END:VEVENT
BEGIN:VEVENT
DTSTART;TZID=America/Halifax:20191211T120000
DTEND;TZID=America/Halifax:20191211T140000
DTSTAMP:20260424T061359
CREATED:20191204T181122Z
LAST-MODIFIED:20191204T191035Z
UID:16205-1576065600-1576072800@listuguj.ca
SUMMARY:Listuguj Tourism – Mi’gmaq Culture Focus Group
DESCRIPTION:Listuguj Tourism – Mi’gmaq Culture Focus Group \nWednesday\, December 11\, 2019 \n12:00 p.m. – 2:00 p.m. \nElder’s Lodge \nListuguj Tourism is developing a strategic plan and needs your input!  We are inviting Mi’gmaq cultural knowledge holders to join us in a focus group discussion.  Your participation is incredibly important as we want to ensure we are integrating Mi’gmaq culture\, language\, history and knowledge into the plan\, the best way possible. \nIf you have any questions\, please feel free to get in touch with Paige Isaac\, paige.isaac@listuguj.ca or 418-788-2136.
URL:https://listuguj.ca/event/listuguj-tourism-migmaq-culture-focus-group/
LOCATION:Elders Lodge\, 5 Riverside West\, Listuguj\, Quebec\, G0C 2R0\, Canada
CATEGORIES:Listuguj Economic Development Unit
ATTACH;FMTTYPE=image/png:https://listuguj.ca/wp-content/uploads/2019/12/Listuguj-Tourism.png
END:VEVENT
BEGIN:VEVENT
DTSTART;TZID=America/Halifax:20191210T153000
DTEND;TZID=America/Halifax:20191210T180000
DTSTAMP:20260424T061359
CREATED:20191203T153341Z
LAST-MODIFIED:20191203T153341Z
UID:16196-1575991800-1576000800@listuguj.ca
SUMMARY:Santa Claus Wejgu'et 2019
DESCRIPTION:As you are aware\, the Christmas holidays are quickly approaching. Once again the team at Listuguj Community Social Services is preparing their annual Santa Claus Wejgu’et on Tuesday\, December 10\, 2019\, at the Listuguj Community Development Center from 3:30 PM to 6 PM (Bingo Hall). \nWe will be accepting non-perishable food items for the food bank located at the community center. \nThe more items brought in\, the more tickets you will receive for a chance to win a PRIZE. \nWe will have sleigh rides\, door prizes and a chance to meet the big man himself\, Santa Claus. \nThis is a drug and alcohol free event.
URL:https://listuguj.ca/event/santa-claus-wejguet-2019/
LOCATION:Listuguj Community Development Centre\, 42 Dundee Road\, Listuguj\, Quebec\, G0C 2R0\, Canada
CATEGORIES:Listuguj Community & Social Services Directorate
ATTACH;FMTTYPE=image/png:https://listuguj.ca/wp-content/uploads/2019/04/20046535_10158938412575328_3188858954418365716_n.png
END:VEVENT
BEGIN:VEVENT
DTSTART;TZID=America/Halifax:20191205T170000
DTEND;TZID=America/Halifax:20191205T200000
DTSTAMP:20260424T061359
CREATED:20191126T200427Z
LAST-MODIFIED:20191202T125344Z
UID:16173-1575565200-1575576000@listuguj.ca
SUMMARY:Listuguj Mi'gmaq Community Plan Christmas Social
DESCRIPTION:We are thrilled to announce that we have given away all the available tickets for the LMCP Christmas Social!!!\n\nPlease remember to bring your ticket to the event with you. You will need it for entry.\n\nIf you have a ticket and for some reason are unable to attend the event\, please call Janice at the LMG Band Office Reception (418-788-2136) so that your ticket can be given to another community member.\n\nWela’lioq ms’t wen!\nLooking forward to seeing you on December 5th.
URL:https://listuguj.ca/event/listuguj-migmaq-community-plan-christmas-social/
LOCATION:Listuguj Community Development Centre\, 42 Dundee Road\, Listuguj\, Quebec\, G0C 2R0\, Canada
CATEGORIES:Listuguj Economic Development Unit
ATTACH;FMTTYPE=image/png:https://listuguj.ca/wp-content/uploads/2019/11/Christmas-Social.png
END:VEVENT
BEGIN:VEVENT
DTSTART;TZID=America/Halifax:20191127T090000
DTEND;TZID=America/Halifax:20191127T160000
DTSTAMP:20260424T061359
CREATED:20191120T183057Z
LAST-MODIFIED:20191120T183057Z
UID:16156-1574845200-1574870400@listuguj.ca
SUMMARY:Moose Meat Distribution
DESCRIPTION:The Listuguj Community Health Services will be distributing moose meat to community members on Wednesday\, November 27\, 2019 from 9:00 a.m. – 4:00 p.m. in the shed located behind their building.
URL:https://listuguj.ca/event/moose-meat-distribution-6/
LOCATION:Listuguj Community Health Services\, 6 Pacific Drive\, Listuguj\, QC\, G0C 2R0\, Canada
CATEGORIES:Listuguj Community Health Services Directorate
ATTACH;FMTTYPE=image/png:https://listuguj.ca/wp-content/uploads/2019/04/20046535_10158938412575328_3188858954418365716_n.png
END:VEVENT
BEGIN:VEVENT
DTSTART;TZID=America/Halifax:20191126T090000
DTEND;TZID=America/Halifax:20191126T150000
DTSTAMP:20260424T061359
CREATED:20191023T115815Z
LAST-MODIFIED:20191023T115815Z
UID:16020-1574758800-1574780400@listuguj.ca
SUMMARY:2019 Listuguj Career & Skilled Trades/Post-Secondary Fair
DESCRIPTION:The Listuguj Education Training and Employment will be hosting their annual Career & Skilled Trades/Post-Secondary Fair on Tuesday\, November 26\, 2019 from 9:00 a.m. until 3:00 p.m. (NB Time) at the Listuguj Community Development Centre (Bingo Hall) and Sugarloaf Senior High School. This event is open to Listuguj students from grades 8 to 12\, along with Adult Education students from Listuguj and Gesgapegiaq. \nThe guest speaker for this event is National Speaker Stan Wesley! Representatives from colleges\, universities\, along with industry professionals will be present to share their information. Careers in demand will be highlighted. Students will get the chance to participate in ‘hands on experiences’ throughout the day at interactive display booths with chances to win cool prizes and enjoy lunch together. \nFor more information contact:\nRhonda Metallic\nPhone: 780-298-4670\nEmail: rhondalexi@gmail.com
URL:https://listuguj.ca/event/2019-listuguj-career-skilled-trades-post-secondary-fair/
LOCATION:Listuguj Community Development Centre\, 42 Dundee Road\, Listuguj\, Quebec\, G0C 2R0\, Canada
CATEGORIES:Listuguj Education Directorate
ATTACH;FMTTYPE=image/jpeg:https://listuguj.ca/wp-content/uploads/2019/10/LMDC-logo.jpg
END:VEVENT
BEGIN:VEVENT
DTSTART;TZID=America/Halifax:20191123T133000
DTEND;TZID=America/Halifax:20191123T170000
DTSTAMP:20260424T061359
CREATED:20191115T153552Z
LAST-MODIFIED:20191115T153552Z
UID:16117-1574515800-1574528400@listuguj.ca
SUMMARY:Early Childhood Week Activities
DESCRIPTION:Next week is early childhood week. The Listuguj Community Health Services will be hosting activities on Saturday\, November 23rd\, at the youth centre to celebrate. All families with children 0-6 are welcome. There will be a magic show\, a story time\, crafts\, bouncy castles\, face painting and door prizes\, with a meal served at 4:00 p.m.
URL:https://listuguj.ca/event/early-childhood-week-activities/
LOCATION:Youth and Family Centre\, 19B Riverside West\, Listuguj\, Quebec\, G0C 2R0\, Canada
CATEGORIES:Listuguj Community Health Services Directorate
ATTACH;FMTTYPE=image/jpeg:https://listuguj.ca/wp-content/uploads/2019/11/Copy-of-Summer-Camp-Flyer-Made-with-PosterMyWall-4-1.jpg
END:VEVENT
BEGIN:VEVENT
DTSTART;TZID=America/Halifax:20191121T120000
DTEND;TZID=America/Halifax:20191121T130000
DTSTAMP:20260424T061359
CREATED:20191119T140721Z
LAST-MODIFIED:20191119T140721Z
UID:16143-1574337600-1574341200@listuguj.ca
SUMMARY:Mi’gmaq Monument on the Campbellton Waterfront
DESCRIPTION:The Listuguj Mi’gmaq Government\, in collaboration with the city of Campbellton\, Indigenous Service Canada Atlantic Branch and local businesses have come together to have a monument placed on the Campbellton waterfront. This is a very progressive step forward in mending the relationships of the region to move towards a more collaborative future. \nThe unveiling of the monument will take place Thursday\, November 21\, 2019 at 12:15 p.m. Atlantic time on the Campbellton waterfront\, located right next to the lighthouse.
URL:https://listuguj.ca/event/migmaq-monument-on-the-campbellton-waterfront/
LOCATION:Quebec
CATEGORIES:Listuguj Mi’gmaq Government
ATTACH;FMTTYPE=image/png:https://listuguj.ca/wp-content/uploads/2019/04/20046535_10158938412575328_3188858954418365716_n.png
END:VEVENT
BEGIN:VEVENT
DTSTART;TZID=America/Halifax:20191121T093000
DTEND;TZID=America/Halifax:20191121T163000
DTSTAMP:20260424T061359
CREATED:20191118T182001Z
LAST-MODIFIED:20191118T182001Z
UID:16132-1574328600-1574353800@listuguj.ca
SUMMARY:Restorative Justice Symposium
DESCRIPTION:The Restorative Justice Program will be hosting a symposium at the Listuguj Community Development Centre (Bingo Hall) on Thursday\, November 21st\, starting at 9:30 a.m. The symposium will include a number of presentations that will be addressing community social justice issues. The guest speakers are Cedric Gray-Lehoux\, Toby Condo and Brandon Metallic. \nFor more information\, feel free to contact Lyle Wysote at 418-788-1347.
URL:https://listuguj.ca/event/restorative-justice-symposium-2/
LOCATION:Listuguj Community Development Centre\, 42 Dundee Road\, Listuguj\, Quebec\, G0C 2R0\, Canada
CATEGORIES:Listuguj Community & Social Services Directorate
ATTACH;FMTTYPE=image/png:https://listuguj.ca/wp-content/uploads/2019/11/Restorative-Justice-Symposium-poster2.png
END:VEVENT
BEGIN:VEVENT
DTSTART;VALUE=DATE:20191118
DTEND;VALUE=DATE:20191119
DTSTAMP:20260424T061359
CREATED:20191118T133528Z
LAST-MODIFIED:20191118T133528Z
UID:16121-1574035200-1574121599@listuguj.ca
SUMMARY:Gesig Culture Day
DESCRIPTION:Gesig Culture Day will be held on Friday\, January 17th\, in the Alaqsite’w Gitpu School gym. Join them in the celebration. More details to come.
URL:https://listuguj.ca/event/gesig-culture-day-2/
LOCATION:Alaqsite’w Gitpu School
CATEGORIES:Alaqsite’w Gitpu School
ATTACH;FMTTYPE=image/png:https://listuguj.ca/wp-content/uploads/2019/11/AGS.png
END:VEVENT
BEGIN:VEVENT
DTSTART;TZID=America/Halifax:20191111T110000
DTEND;TZID=America/Halifax:20191111T140000
DTSTAMP:20260424T061359
CREATED:20191104T133405Z
LAST-MODIFIED:20191104T133405Z
UID:16048-1573470000-1573480800@listuguj.ca
SUMMARY:Remembrance Day Gathering
DESCRIPTION:The Listuguj Veteran’s Memorial Committee along with the Listuguj Mi’gmaq Government are cordially inviting you to a ceremony and feast in honour of our local heroes – the veterans of Listuguj. The gathering will take place on Monday\, November 11th\, at 11:00 a.m. in the Alaqsite’w Gitpu School gym. For further information\, please contact Mary at 418-788-5919.
URL:https://listuguj.ca/event/remembrance-day-gathering/
LOCATION:Alaqsite’w Gitpu School
CATEGORIES:Listuguj Mi’gmaq Government
ATTACH;FMTTYPE=image/png:https://listuguj.ca/wp-content/uploads/2019/11/Remembrance-Day-Invitation-Flyer_Nov-11-2019.png
END:VEVENT
BEGIN:VEVENT
DTSTART;TZID=America/Halifax:20191106T090000
DTEND;TZID=America/Halifax:20191106T170000
DTSTAMP:20260424T061359
CREATED:20191104T202431Z
LAST-MODIFIED:20191104T202431Z
UID:16060-1573030800-1573059600@listuguj.ca
SUMMARY:Zenabis Job Fair
DESCRIPTION:Zenabis will be having a job fair on Wednesday\, November 6th\, from 9:00 a.m. to 5:00 p.m. at 114 Water Street in Campbellton. They are currently hiring full time and casual packaging / production operators. There will be on the spot interviews. Please remember to bring two pieces of government issued ID and your resume.
URL:https://listuguj.ca/event/zenabis-job-fair-2/
LOCATION:Quebec
ATTACH;FMTTYPE=image/png:https://listuguj.ca/wp-content/uploads/2019/11/ZB_JobfairPoster_Atholville_rev04_Page_1.png
END:VEVENT
BEGIN:VEVENT
DTSTART;TZID=America/Halifax:20191102T090000
DTEND;TZID=America/Halifax:20191102T200000
DTSTAMP:20260424T061359
CREATED:20191022T164443Z
LAST-MODIFIED:20191022T164443Z
UID:16017-1572685200-1572724800@listuguj.ca
SUMMARY:LCHS Flu Clinic
DESCRIPTION:The Listuguj Community Health Services will be having a flu clinic on Saturday\, November 2nd\, 2019 from 9:00 AM to 8:00 PM. Walk ins only with no appointments necessary.
URL:https://listuguj.ca/event/lchs-flu-clinic/
LOCATION:Listuguj Community Health Services\, 6 Pacific Drive\, Listuguj\, QC\, G0C 2R0\, Canada
CATEGORIES:Listuguj Community Health Services Directorate
ATTACH;FMTTYPE=image/jpeg:https://listuguj.ca/wp-content/uploads/2019/09/Listuguj-Health-e1605291653888.jpg
END:VEVENT
BEGIN:VEVENT
DTSTART;TZID=America/Halifax:20191031T073000
DTEND;TZID=America/Halifax:20191031T080000
DTSTAMP:20260424T061359
CREATED:20191023T133421Z
LAST-MODIFIED:20191025T133854Z
UID:16024-1572507000-1572508800@listuguj.ca
SUMMARY:Garbage Pick Up
DESCRIPTION:Remember to bring your garbage to the curb before 8:00 AM on Thursdays.
URL:https://listuguj.ca/event/garbage-pick-up-2/
LOCATION:Quebec
CATEGORIES:Listuguj Mi’gmaq Government
ATTACH;FMTTYPE=image/png:https://listuguj.ca/wp-content/uploads/2019/04/20046535_10158938412575328_3188858954418365716_n.png
END:VEVENT
BEGIN:VEVENT
DTSTART;VALUE=DATE:20191031
DTEND;VALUE=DATE:20191101
DTSTAMP:20260424T061359
CREATED:20191031T121924Z
LAST-MODIFIED:20191031T121924Z
UID:16036-1572480000-1572566399@listuguj.ca
SUMMARY:LMG Closing Early for Halloween
DESCRIPTION:Please be advised that the Listuguj Mi’gmaq Government will be closing at 3:30 p.m. today\, October 31st\, for Halloween.
URL:https://listuguj.ca/event/lmg-closing-early-for-halloween/
LOCATION:Quebec
CATEGORIES:Listuguj Mi’gmaq Government
ATTACH;FMTTYPE=image/png:https://listuguj.ca/wp-content/uploads/2019/04/20046535_10158938412575328_3188858954418365716_n.png
END:VEVENT
BEGIN:VEVENT
DTSTART;TZID=America/Halifax:20191030T180000
DTEND;TZID=America/Halifax:20191030T200000
DTSTAMP:20260424T061359
CREATED:20191015T182408Z
LAST-MODIFIED:20191015T182408Z
UID:15981-1572458400-1572465600@listuguj.ca
SUMMARY:15th Annual LPD Halloween Party
DESCRIPTION:The Listuguj Police Department is hosting its 15th annual Halloween party on Wednesday\, October 30th.  The party will be from 6:00 to 8:00 p.m. at the Listuguj Community Development Centre (Bingo Hall).  Join them for lots of food\, treats and prizes.  The party is open to all ages.
URL:https://listuguj.ca/event/15th-annual-lpd-halloween-party/
LOCATION:Listuguj Community Development Centre\, 42 Dundee Road\, Listuguj\, Quebec\, G0C 2R0\, Canada
CATEGORIES:Listuguj Public Safety Directorate
ATTACH;FMTTYPE=image/png:https://listuguj.ca/wp-content/uploads/2019/10/halloween_party_poster.png
END:VEVENT
BEGIN:VEVENT
DTSTART;TZID=America/Halifax:20191030T150000
DTEND;TZID=America/Halifax:20191030T210000
DTSTAMP:20260424T061359
CREATED:20191007T193009Z
LAST-MODIFIED:20191009T144229Z
UID:15941-1572447600-1572469200@listuguj.ca
SUMMARY:Haunted Garden
DESCRIPTION:The Listuguj Community Garden is organizing a Haunted Garden on October 30th. The Haunted Garden will be open from 3:00 to 6:00 p.m. for children and from 6:00 to 9:00 p.m. for teenagers and adults. They are located behind the Gignu Unit\, 4 Gef Street\, off of Glitaw Street.\n\n\n \n\n\nThey are looking for Halloween decorations to help make this the spookiest event in Listuguj. They will also accept old bed sheets or unwanted household items that can be modified to fit the Halloween theme. Donations can be dropped off at the Community Garden between 8:30 a.m. and 4:30 p.m. Monday to Friday or at the Youth Centre if the Community Garden is unattended. For more information\, please contact Shawnee Metallic at 506-987-0279.
URL:https://listuguj.ca/event/haunted-garden/
LOCATION:Quebec
CATEGORIES:Administration,Listuguj Community & Social Services Directorate
ATTACH;FMTTYPE=image/png:https://listuguj.ca/wp-content/uploads/2019/04/20046535_10158938412575328_3188858954418365716_n.png
END:VEVENT
BEGIN:VEVENT
DTSTART;TZID=America/Halifax:20191024T090000
DTEND;TZID=America/Halifax:20191024T150000
DTSTAMP:20260424T061359
CREATED:20190919T114859Z
LAST-MODIFIED:20191021T172606Z
UID:15837-1571907600-1571929200@listuguj.ca
SUMMARY:LMG Open House
DESCRIPTION:This year’s open house will take place on Thursday\, October 24th\, at 9:00 a.m. at the Listuguj Community Development Centre (Bingo Hall).  Make sure to stop by.  You will have the chance to win an iPad!  For more information\, please contact Jill Martin or Brandey Barnaby at 418-788-2136.
URL:https://listuguj.ca/event/lmg-open-house-2/
LOCATION:Listuguj Community Development Centre\, 42 Dundee Road\, Listuguj\, Quebec\, G0C 2R0\, Canada
CATEGORIES:Listuguj Mi’gmaq Government
ATTACH;FMTTYPE=image/png:https://listuguj.ca/wp-content/uploads/2019/09/open_house_svd-.png
END:VEVENT
BEGIN:VEVENT
DTSTART;TZID=America/Halifax:20191017T110000
DTEND;TZID=America/Halifax:20191017T130000
DTSTAMP:20260424T061359
CREATED:20191004T163740Z
LAST-MODIFIED:20191004T163740Z
UID:15934-1571310000-1571317200@listuguj.ca
SUMMARY:LCHS Lunch & Learn
DESCRIPTION:The Listuguj Community Health Services will be hosting a lunch and learn for breast cancer awareness on Thursday\, October 17th\, from 11:00 a.m. to 1:00 p.m. at the Elders Lodge. There will be a presentation by nurse Erica Desrochers followed by a lunch.
URL:https://listuguj.ca/event/lchs-lunch-learn/
LOCATION:Elders Lodge\, 5 Riverside West\, Listuguj\, Quebec\, G0C 2R0\, Canada
CATEGORIES:Listuguj Community Health Services Directorate
ATTACH;FMTTYPE=image/jpeg:https://listuguj.ca/wp-content/uploads/2019/09/Listuguj-Health-e1605291653888.jpg
END:VEVENT
BEGIN:VEVENT
DTSTART;TZID=America/Halifax:20191010T170000
DTEND;TZID=America/Halifax:20191010T193000
DTSTAMP:20260424T061359
CREATED:20190926T185404Z
LAST-MODIFIED:20190926T190816Z
UID:15890-1570726800-1570735800@listuguj.ca
SUMMARY:Gaming Law Community Meeting & Dinner
DESCRIPTION:Community Meeting and Dinner \nTopic: Listuguj Gaming Law \nThursday\, October 10th\, 2019 \n5pm at Listuguj Bingo Hall \nDinner followed by presentation and Q&A \n  \nYou can download the Listuguj Gaming Law DRAFT 2 by clicking here.
URL:https://listuguj.ca/event/gaming-law-community-meeting-dinner/
LOCATION:Listuguj Community Development Centre\, 42 Dundee Road\, Listuguj\, Quebec\, G0C 2R0\, Canada
CATEGORIES:Chief & Council
ATTACH;FMTTYPE=image/png:https://listuguj.ca/wp-content/uploads/2019/04/20046535_10158938412575328_3188858954418365716_n.png
END:VEVENT
BEGIN:VEVENT
DTSTART;TZID=America/Halifax:20191010T103000
DTEND;TZID=America/Halifax:20191010T130000
DTSTAMP:20260424T061359
CREATED:20190924T191201Z
LAST-MODIFIED:20190924T191201Z
UID:15881-1570703400-1570712400@listuguj.ca
SUMMARY:FNRAEC Open House
DESCRIPTION:The First Nations Regional Adult Education Centre will be having their open house on Thursday\, October 10th\, starting at 10:30 a.m.  Take a tour of their new location\, 4 Pacific Drive.  Lunch will be provided.  For information\, you can contact them at 418-788-1347 or visit their Facebook page: https://www.facebook.com/fnraeclistuguj/.
URL:https://listuguj.ca/event/fnraec-open-house/
LOCATION:First Nations Regional Adult Education Centre\, 4 Pacific Drive\, Listuguj\, QC\, G0C 2R0\, Canada
CATEGORIES:First Nations Regional Adult Education Centre
ATTACH;FMTTYPE=image/jpeg:https://listuguj.ca/wp-content/uploads/2019/09/FNRAEC-logo.jpg
END:VEVENT
BEGIN:VEVENT
DTSTART;TZID=America/Halifax:20191006T170000
DTEND;TZID=America/Halifax:20191006T190000
DTSTAMP:20260424T061359
CREATED:20191005T181359Z
LAST-MODIFIED:20191005T181359Z
UID:15939-1570381200-1570388400@listuguj.ca
SUMMARY:Lobster Distribution
DESCRIPTION:Lobster distribution for today\, October 6th\, will start at the Natural Resources garage between 5:00 and 5:30 p.m. It will be first come first served.
URL:https://listuguj.ca/event/lobster-distribution-5/
LOCATION:Natural Resources\, 44 Dundee Road\, Listuguj\, Quebec\, G0C 2R0
CATEGORIES:Listuguj Natural Resources Directorate
ATTACH;FMTTYPE=image/png:https://listuguj.ca/wp-content/uploads/2019/04/20046535_10158938412575328_3188858954418365716_n.png
END:VEVENT
BEGIN:VEVENT
DTSTART;TZID=America/Halifax:20191005T170000
DTEND;TZID=America/Halifax:20191005T190000
DTSTAMP:20260424T061359
CREATED:20191005T180906Z
LAST-MODIFIED:20191005T181140Z
UID:15936-1570294800-1570302000@listuguj.ca
SUMMARY:Lobster Distribution Cancelled
DESCRIPTION:Due to high winds in Carleton-sur-Mer\, lobster distribution will be cancelled for today\, October 5th.  Regular distribution will resume tomorrow at the Natural Resources garage at 5:00 p.m.
URL:https://listuguj.ca/event/lobster-distribution-cancelled/
LOCATION:Natural Resources\, 44 Dundee Road\, Listuguj\, Quebec\, G0C 2R0
CATEGORIES:Listuguj Natural Resources Directorate
ATTACH;FMTTYPE=image/png:https://listuguj.ca/wp-content/uploads/2019/04/20046535_10158938412575328_3188858954418365716_n.png
END:VEVENT
BEGIN:VEVENT
DTSTART;TZID=America/Halifax:20191001T170000
DTEND;TZID=America/Halifax:20191001T200000
DTSTAMP:20260424T061359
CREATED:20190930T182122Z
LAST-MODIFIED:20190930T182122Z
UID:15920-1569949200-1569960000@listuguj.ca
SUMMARY:Lobster Distribution
DESCRIPTION:Lobster distribution for today\, October 1st\, will start at the Natural Resources garage between 5:00 and 5:30 p.m. It will be first come first served. For more information\, please contact the Natural Resources Directorate at 418-788-3022.
URL:https://listuguj.ca/event/lobster-distribution-4/
LOCATION:Natural Resources\, 44 Dundee Road\, Listuguj\, Quebec\, G0C 2R0
CATEGORIES:Listuguj Natural Resources Directorate
ATTACH;FMTTYPE=image/png:https://listuguj.ca/wp-content/uploads/2019/04/20046535_10158938412575328_3188858954418365716_n.png
END:VEVENT
BEGIN:VEVENT
DTSTART;TZID=America/Halifax:20191001T170000
DTEND;TZID=America/Halifax:20191001T200000
DTSTAMP:20260424T061359
CREATED:20190930T173557Z
LAST-MODIFIED:20190930T173557Z
UID:15913-1569949200-1569960000@listuguj.ca
SUMMARY:Treaty Day Community Feast
DESCRIPTION:There will be a Treaty Day community feast tomorrow\, October 1st\, from 5:00 to 8:00 PM at the Listuguj Community Development Centre (Bingo Hall). \nOn the Menu:\nSeafood chowder \nMoose stew with lusginigan \nSalmon\, potatoes and fiddleheads with lusiginigan \nThere will also be cake\, tea and coffee.
URL:https://listuguj.ca/event/treaty-day-community-feast/
LOCATION:Listuguj Community Development Centre\, 42 Dundee Road\, Listuguj\, Quebec\, G0C 2R0\, Canada
CATEGORIES:Listuguj Natural Resources Directorate
ATTACH;FMTTYPE=image/png:https://listuguj.ca/wp-content/uploads/2019/04/20046535_10158938412575328_3188858954418365716_n.png
END:VEVENT
BEGIN:VEVENT
DTSTART;TZID=America/Halifax:20191001T120000
DTEND;TZID=America/Halifax:20191001T133000
DTSTAMP:20260424T061359
CREATED:20190930T122336Z
LAST-MODIFIED:20190930T122336Z
UID:15907-1569931200-1569936600@listuguj.ca
SUMMARY:Hand Drum Competition
DESCRIPTION:The Sugarloaf Senior High School in collaboration with the Listuguj Enhancement team will be hosting a hand drum competition on Treaty Day\, October 1st\, 2019. They will be serving a feast at 12:00 p.m. and the event will start at 12:30 p.m. For more information or to register\, please contact Derek Barnaby at 581-884-1492.
URL:https://listuguj.ca/event/hand-drum-competition/
LOCATION:Sugarloaf Senior High School\, 201 Dover Street\, Campbellton\, New Brunswick\, E3N 1R3\, Canada
CATEGORIES:Listuguj Education Directorate
ATTACH;FMTTYPE=image/jpeg:https://listuguj.ca/wp-content/uploads/2019/09/HandDrumposter.jpg
END:VEVENT
BEGIN:VEVENT
DTSTART;VALUE=DATE:20191001
DTEND;VALUE=DATE:20191002
DTSTAMP:20260424T061359
CREATED:20190927T133656Z
LAST-MODIFIED:20190927T133921Z
UID:15901-1569888000-1569974399@listuguj.ca
SUMMARY:International Day of Older Persons
DESCRIPTION:Tuesday\, October 1st\, is the International Day of Older Persons. We’re fortunate enough to have older people around us\, whether they’re family\, friends or just general acquaintances. Older people are fonts of wisdom\, experience and storytelling. They can inspire us to continue striving or warn us of dangers we’re unaware of. On behalf of the Listuguj Adult and Elderly Care Program\, we wish you a pleasant International Day of Older Persons.
URL:https://listuguj.ca/event/international-day-of-older-persons/
LOCATION:Quebec
CATEGORIES:Listuguj Community & Social Services Directorate
ATTACH;FMTTYPE=image/jpeg:https://listuguj.ca/wp-content/uploads/2019/09/int_older_persons_day.jpg
END:VEVENT
BEGIN:VEVENT
DTSTART;TZID=America/Halifax:20190930T170000
DTEND;TZID=America/Halifax:20190930T200000
DTSTAMP:20260424T061359
CREATED:20190930T181925Z
LAST-MODIFIED:20190930T181925Z
UID:15918-1569862800-1569873600@listuguj.ca
SUMMARY:Lobster Distribution
DESCRIPTION:Lobster distribution for today\, September 30th\, will start at the Natural Resources garage between 5:00 and 5:30 p.m. It will be first come first served. For more information\, please contact the Natural Resources Directorate at 418-788-3022.
URL:https://listuguj.ca/event/lobster-distribution-3/
LOCATION:Natural Resources\, 44 Dundee Road\, Listuguj\, Quebec\, G0C 2R0
CATEGORIES:Listuguj Natural Resources Directorate
ATTACH;FMTTYPE=image/png:https://listuguj.ca/wp-content/uploads/2019/04/20046535_10158938412575328_3188858954418365716_n.png
END:VEVENT
END:VCALENDAR