BEGIN:VCALENDAR
VERSION:2.0
PRODID:-//Listuguj Mi’gmaq Government - ECPv6.1.3//NONSGML v1.0//EN
CALSCALE:GREGORIAN
METHOD:PUBLISH
X-WR-CALNAME:Listuguj Mi’gmaq Government
X-ORIGINAL-URL:https://listuguj.ca
X-WR-CALDESC:Events for Listuguj Mi’gmaq Government
REFRESH-INTERVAL;VALUE=DURATION:PT1H
X-Robots-Tag:noindex
X-PUBLISHED-TTL:PT1H
BEGIN:VTIMEZONE
TZID:America/Halifax
BEGIN:DAYLIGHT
TZOFFSETFROM:-0400
TZOFFSETTO:-0300
TZNAME:ADT
DTSTART:20200308T060000
END:DAYLIGHT
BEGIN:STANDARD
TZOFFSETFROM:-0300
TZOFFSETTO:-0400
TZNAME:AST
DTSTART:20201101T050000
END:STANDARD
END:VTIMEZONE
BEGIN:VEVENT
DTSTART;TZID=America/Halifax:20200919T110000
DTEND;TZID=America/Halifax:20200919T140000
DTSTAMP:20260421T223706
CREATED:20200918T193933Z
LAST-MODIFIED:20200918T193933Z
UID:18061-1600513200-1600524000@listuguj.ca
SUMMARY:Opening Ceremony of Healing Grounds
DESCRIPTION:The opening ceremony of the healing grounds and arbour is happening Saturday\, September 19th\, at 11:00 a.m. There will be a pipe ceremony by guest elders Frank and Josee Augustine. A feast and refreshments will be served. All community members are welcome to attend. Come enjoy the land that is ours (formally known as Busteeds).
URL:https://listuguj.ca/event/opening-ceremony-of-healing-grounds/
CATEGORIES:Listuguj Mi’gmaq Government
ATTACH;FMTTYPE=image/png:https://listuguj.ca/wp-content/uploads/2020/09/Arbour-Poster-2.png
END:VEVENT
BEGIN:VEVENT
DTSTART;TZID=America/Halifax:20200919T090000
DTEND;TZID=America/Halifax:20200919T160000
DTSTAMP:20260421T223706
CREATED:20200819T121512Z
LAST-MODIFIED:20200819T121512Z
UID:17884-1600506000-1600531200@listuguj.ca
SUMMARY:Babysitting Course
DESCRIPTION:The Listuguj Community Health Services will be hosting a babysitting course on Saturday\, September 19th\, 2020 starting at 9:00 a.m. at the Elders Lodge. There are only 10 spots available. Social distancing measures will apply. \nFor more information\, please contact Wanda Metallic @ 418-788-2155.
URL:https://listuguj.ca/event/babysitting-course-2/
LOCATION:Elders Lodge\, 5 Riverside West\, Listuguj\, Quebec\, G0C 2R0\, Canada
CATEGORIES:Listuguj Community Health Services Directorate
ATTACH;FMTTYPE=image/png:https://listuguj.ca/wp-content/uploads/2020/08/Babysitting-Course.png
END:VEVENT
BEGIN:VEVENT
DTSTART;VALUE=DATE:20200907
DTEND;VALUE=DATE:20200908
DTSTAMP:20260421T223706
CREATED:20180531T132504Z
LAST-MODIFIED:20190904T125030Z
UID:12388-1599436800-1599523199@listuguj.ca
SUMMARY:LMG Closed for Labour Day
DESCRIPTION:The LMG will be closed Monday\, September 7th\, for Labour Day which is a statutory holiday throughout Canada.
URL:https://listuguj.ca/event/lmg-closed-for-labour-day/
CATEGORIES:Listuguj Mi’gmaq Government
ATTACH;FMTTYPE=image/png:https://listuguj.ca/wp-content/uploads/2019/04/20046535_10158938412575328_3188858954418365716_n.png
END:VEVENT
BEGIN:VEVENT
DTSTART;TZID=America/Halifax:20200824T100000
DTEND;TZID=America/Halifax:20200824T163000
DTSTAMP:20260421T223706
CREATED:20200820T174052Z
LAST-MODIFIED:20200820T174052Z
UID:17891-1598263200-1598286600@listuguj.ca
SUMMARY:Workshop - 2020 SSHS Grads
DESCRIPTION:The Listuguj Community Health Services is hosting a workshop for this year’s SSHS graduates through their Community Wellness Program. The workshop will take place on Monday\, August 24th\, 2020 at the Listuguj Community Development Centre (Bingo Hall) starting at 10:00 a.m. \nItems on the agenda include: \n\nBasket making\nWorkshop on addictions\nWorkshop on maintaining a budget\nFree lunch
URL:https://listuguj.ca/event/workshop-2020-sshs-grads/
LOCATION:Listuguj Community Development Centre\, 42 Dundee Road\, Listuguj\, Quebec\, G0C 2R0\, Canada
CATEGORIES:Listuguj Community Health Services Directorate
ATTACH;FMTTYPE=image/jpeg:https://listuguj.ca/wp-content/uploads/2019/09/Listuguj-Health-e1605291653888.jpg
END:VEVENT
BEGIN:VEVENT
DTSTART;TZID=America/Halifax:20200807T110000
DTEND;TZID=America/Halifax:20200807T140000
DTSTAMP:20260421T223706
CREATED:20200805T130226Z
LAST-MODIFIED:20200805T130226Z
UID:17409-1596798000-1596808800@listuguj.ca
SUMMARY:Bike Rodeo
DESCRIPTION:The Bike Rodeo is happening this Friday\, August 7th\, starting at 11:00 a.m. at the Joe Robert Memorial Rink. This event is open to all ages. There will be prizes and a BBQ.\nPlease follow social distancing guidelines while at this event. 
URL:https://listuguj.ca/event/bike-rodeo/
CATEGORIES:Listuguj Community Health Services Directorate,Listuguj Public Safety Directorate
ATTACH;FMTTYPE=image/png:https://listuguj.ca/wp-content/uploads/2020/08/bike_rodeo.png
END:VEVENT
BEGIN:VEVENT
DTSTART;TZID=America/Halifax:20200717T100000
DTEND;TZID=America/Halifax:20200717T130000
DTSTAMP:20260421T223706
CREATED:20200710T163524Z
LAST-MODIFIED:20200710T163524Z
UID:17246-1594980000-1594990800@listuguj.ca
SUMMARY:Community Clean-Up
DESCRIPTION:A community clean-up will be hosted on July 17th from 10:00 AM to 1:00 PM at the Lake in an effort to make the area cleaner and safer for community members and wildlife. We would like to invite any community members who want to come help out. Participants should bring gloves\, proper footwear and must respect social distancing. Garbage and recycling bags will be provided to everyone at the event to collect the waste. All the waste collected will be handled by the community’s Eco Patrollers and will be disposed of properly. We are very excited to see everyone there and see what we can do as a community! 
URL:https://listuguj.ca/event/community-clean-up/
CATEGORIES:Listuguj Capital & Infrastructure Directorate
ATTACH;FMTTYPE=image/png:https://listuguj.ca/wp-content/uploads/2020/07/Clean-Up-Day.png
END:VEVENT
BEGIN:VEVENT
DTSTART;TZID=America/Halifax:20200715T100000
DTEND;TZID=America/Halifax:20200715T160000
DTSTAMP:20260421T223706
CREATED:20200713T172510Z
LAST-MODIFIED:20200713T172510Z
UID:17259-1594807200-1594828800@listuguj.ca
SUMMARY:Community Kitchen Open
DESCRIPTION:The Community Kitchen will be open on Wednesday\, July 15th\, from 10:00 a.m. to 4:00 p.m. Please use the community kitchen entrance (side door). \nPlease note that the following rules will be in place to help keep staff\, volunteers and clients safe: \n\nUpon entering the community kitchen\, you will be required to sanitize your hands.\nFace masks are required. We ask that you bring your own mask. However\, we will have a few disposable ones in case you forget yours.\nSeating has been set up to respect social distancing. Please do not sit on the seats marked with a red “X”.\n8 people will be allowed in the waiting area at once while others can wait in the bingo hall (seats have been set up 6 ft. apart).\nSeats will be sanitized frequently.\nCounter will be cleaned and sanitized after each client.\nPlease bring your own bags.\nIf we reach  our capacity for the building\, you will be asked to return at a later hour.\n\nShould you have any questions or concerns\, please contact the Listuguj Community Health Services at 418-788-2155.
URL:https://listuguj.ca/event/community-kitchen-open/
LOCATION:Listuguj Community Development Centre\, 42 Dundee Road\, Listuguj\, Quebec\, G0C 2R0\, Canada
CATEGORIES:Listuguj Community Health Services Directorate
ATTACH;FMTTYPE=image/png:https://listuguj.ca/wp-content/uploads/2019/04/20046535_10158938412575328_3188858954418365716_n.png
END:VEVENT
BEGIN:VEVENT
DTSTART;TZID=America/Halifax:20200629T080000
DTEND;TZID=America/Halifax:20200629T110000
DTSTAMP:20260421T223706
CREATED:20200302T151959Z
LAST-MODIFIED:20200302T151959Z
UID:16517-1593417600-1593428400@listuguj.ca
SUMMARY:Healthy Breakfast
DESCRIPTION:Monday\, June 29\, 2020 \n8:00 am to 11:00 am \nElder’s Lodge \nOPEN TO EVERYONE
URL:https://listuguj.ca/event/healthy-breakfast-16/
LOCATION:Elders Lodge\, 5 Riverside West\, Listuguj\, Quebec\, G0C 2R0\, Canada
CATEGORIES:Listuguj Community Health Services Directorate
ATTACH;FMTTYPE=image/jpeg:https://listuguj.ca/wp-content/uploads/2019/09/Listuguj-Health-e1605291653888.jpg
END:VEVENT
BEGIN:VEVENT
DTSTART;VALUE=DATE:20200619
DTEND;VALUE=DATE:20200620
DTSTAMP:20260421T223706
CREATED:20200122T134539Z
LAST-MODIFIED:20200303T173820Z
UID:16338-1592524800-1592611199@listuguj.ca
SUMMARY:Application Deadline for Per Capita Distribution
DESCRIPTION:On April 29\, 2015 the federal government approved a one-time compensation for the loss of use for the 5 parcels of land. Since then community members have been applying for their one time lump sum payment (Per Capita Distribution). \nThe five year deadline is soon approaching on June 19\, 2020. There remains a number of Listugujewaq (+18 years) who have not claimed their Per Capita Distribution amount. According to the terms of the settlement agreement\, the deadline to apply for these monies is June 19\, 2020. After this date\, all remaining funds will have been deemed forfeited. \nPlease note this deadline does not affect the minors at the time of the agreement. They are still encouraged to apply for their PCD once they turn 18. \nYou are encouraged to contact Felicia Mitchell by email at felicia.mitchell@listuguj.ca or by phone at 418-788-2136 to fill in your application prior to April 29\, 2020.
URL:https://listuguj.ca/event/application-deadline-for-per-capita-distribution/
LOCATION:Listuguj Mi’gmaq Government\, 17 Riverside West\, Listuguj\, Quebec\, Canada
CATEGORIES:Listuguj Mi’gmaq Government
ATTACH;FMTTYPE=image/jpeg:https://listuguj.ca/wp-content/uploads/2020/01/85047764_10162775440950328_8895991212733890560_o.jpg
END:VEVENT
BEGIN:VEVENT
DTSTART;VALUE=DATE:20200619
DTEND;VALUE=DATE:20200620
DTSTAMP:20260421T223706
CREATED:20191118T133944Z
LAST-MODIFIED:20191118T133944Z
UID:16127-1592524800-1592611199@listuguj.ca
SUMMARY:Nigp Culture Day
DESCRIPTION:Nigp Culture Day will be held on Friday\, June 19th\, in the Alaqsite’w Gitpu School gym. Join them in the celebration. More details to come.
URL:https://listuguj.ca/event/nigp-culture-day/
LOCATION:Alaqsite’w Gitpu School
CATEGORIES:Alaqsite’w Gitpu School
ATTACH;FMTTYPE=image/png:https://listuguj.ca/wp-content/uploads/2019/11/AGS.png
END:VEVENT
BEGIN:VEVENT
DTSTART;TZID=America/Halifax:20200617T120000
DTEND;TZID=America/Halifax:20200617T130000
DTSTAMP:20260421T223706
CREATED:20200302T151727Z
LAST-MODIFIED:20200302T151727Z
UID:16515-1592395200-1592398800@listuguj.ca
SUMMARY:Lunch and Learn - Environment "Earth Day"
DESCRIPTION:Wednesday\, June 17\, 2020 \n12:00 pm to 1:00 pm \nElder’s Lodge \nOPEN TO EVERYONE
URL:https://listuguj.ca/event/lunch-and-learn-environment-earth-day/
LOCATION:Elders Lodge\, 5 Riverside West\, Listuguj\, Quebec\, G0C 2R0\, Canada
CATEGORIES:Listuguj Community Health Services Directorate
ATTACH;FMTTYPE=image/jpeg:https://listuguj.ca/wp-content/uploads/2019/09/Listuguj-Health-e1605291653888.jpg
END:VEVENT
BEGIN:VEVENT
DTSTART;TZID=America/Halifax:20200526T100000
DTEND;TZID=America/Halifax:20200526T113000
DTSTAMP:20260421T223706
CREATED:20200525T144521Z
LAST-MODIFIED:20200525T144521Z
UID:17064-1590487200-1590492600@listuguj.ca
SUMMARY:Ground Breaking Ceremony - Alaqsite'w Gitpu School Expansion
DESCRIPTION:The Alaqsite’w Gitpu School is breaking ground on their expansion project tomorrow\, May 26th\, at 10:00 a.m. We know that everyone would love to get involved and witness this exciting moment for Listuguj. Since we are currently unable to gather in large numbers\, the Listuguj Mi’gmaq Government Facebook page will live stream the event. Tune into the Facebook Live at 10:00 a.m. to join in the celebration.
URL:https://listuguj.ca/event/ground-breaking-ceremony-alaqsitew-gitpu-school-expansion/
LOCATION:Alaqsite’w Gitpu School
CATEGORIES:Alaqsite’w Gitpu School
ATTACH;FMTTYPE=image/png:https://listuguj.ca/wp-content/uploads/2019/11/AGS.png
END:VEVENT
BEGIN:VEVENT
DTSTART;TZID=America/Halifax:20200525T080000
DTEND;TZID=America/Halifax:20200525T110000
DTSTAMP:20260421T223706
CREATED:20200302T151429Z
LAST-MODIFIED:20200302T151429Z
UID:16513-1590393600-1590404400@listuguj.ca
SUMMARY:Healthy Breakfast
DESCRIPTION:Monday\, May 25\, 2020 \n8:00 am to 11:00 am \nElder’s Lodge \nOPEN TO EVERYONE
URL:https://listuguj.ca/event/healthy-breakfast-15/
LOCATION:Elders Lodge\, 5 Riverside West\, Listuguj\, Quebec\, G0C 2R0\, Canada
CATEGORIES:Listuguj Community Health Services Directorate
ATTACH;FMTTYPE=image/jpeg:https://listuguj.ca/wp-content/uploads/2019/09/Listuguj-Health-e1605291653888.jpg
END:VEVENT
BEGIN:VEVENT
DTSTART;TZID=America/Halifax:20200513T120000
DTEND;TZID=America/Halifax:20200513T130000
DTSTAMP:20260421T223706
CREATED:20200302T151135Z
LAST-MODIFIED:20200302T151135Z
UID:16511-1589371200-1589374800@listuguj.ca
SUMMARY:Lunch and Learn - Smoking Cessation Program
DESCRIPTION:Wednesday\, May 13\, 2020 \n12:00 pm to 1:00 pm \nElder’s Lodge \nOPEN TO EVERYONE
URL:https://listuguj.ca/event/lunch-and-learn-smoking-cessation-program/
LOCATION:Elders Lodge\, 5 Riverside West\, Listuguj\, Quebec\, G0C 2R0\, Canada
CATEGORIES:Listuguj Community Health Services Directorate
ATTACH;FMTTYPE=image/jpeg:https://listuguj.ca/wp-content/uploads/2019/09/Listuguj-Health-e1605291653888.jpg
END:VEVENT
BEGIN:VEVENT
DTSTART;TZID=America/Halifax:20200427T080000
DTEND;TZID=America/Halifax:20200427T110000
DTSTAMP:20260421T223706
CREATED:20200302T150755Z
LAST-MODIFIED:20200302T150755Z
UID:16509-1587974400-1587985200@listuguj.ca
SUMMARY:Healthy Breakfast
DESCRIPTION:Monday\, April 27\, 2020 \n8:00 am to 11:00 am \nElder’s Lodge \nOPEN TO EVERYONE
URL:https://listuguj.ca/event/healthy-breakfast-14/
LOCATION:Elders Lodge\, 5 Riverside West\, Listuguj\, Quebec\, G0C 2R0\, Canada
CATEGORIES:Listuguj Community Health Services Directorate
ATTACH;FMTTYPE=image/jpeg:https://listuguj.ca/wp-content/uploads/2019/09/Listuguj-Health-e1605291653888.jpg
END:VEVENT
BEGIN:VEVENT
DTSTART;TZID=America/Halifax:20200415T120000
DTEND;TZID=America/Halifax:20200415T130000
DTSTAMP:20260421T223706
CREATED:20200302T150515Z
LAST-MODIFIED:20200302T150515Z
UID:16507-1586952000-1586955600@listuguj.ca
SUMMARY:Lunch and Learn - Food Nutrition & Community Kitchen
DESCRIPTION:Wednesday\, April 15\, 2020 \n12:00 pm to 1:00 pm \nElder’s Lodge \nOPEN TO EVERYONE
URL:https://listuguj.ca/event/lunch-and-learn-food-nutrition-community-kitchen/
LOCATION:Elders Lodge\, 5 Riverside West\, Listuguj\, Quebec\, G0C 2R0\, Canada
CATEGORIES:Listuguj Community Health Services Directorate
ATTACH;FMTTYPE=image/jpeg:https://listuguj.ca/wp-content/uploads/2019/09/Listuguj-Health-e1605291653888.jpg
END:VEVENT
BEGIN:VEVENT
DTSTART;TZID=America/Halifax:20200330T080000
DTEND;TZID=America/Halifax:20200330T110000
DTSTAMP:20260421T223706
CREATED:20200302T150141Z
LAST-MODIFIED:20200316T134041Z
UID:16505-1585555200-1585566000@listuguj.ca
SUMMARY:Cancelled - Healthy Breakfast
DESCRIPTION:  \n*Cancelled until further notice*\n  \nMonday\, March 30\, 2020 \n8:00 am to 11:00 am \nElder’s Lodge \nOPEN TO EVERYONE
URL:https://listuguj.ca/event/healthy-breakfast-13/
LOCATION:Elders Lodge\, 5 Riverside West\, Listuguj\, Quebec\, G0C 2R0\, Canada
CATEGORIES:Listuguj Community Health Services Directorate
ATTACH;FMTTYPE=image/jpeg:https://listuguj.ca/wp-content/uploads/2019/09/Listuguj-Health-e1605291653888.jpg
END:VEVENT
BEGIN:VEVENT
DTSTART;TZID=America/Halifax:20200327T140000
DTEND;TZID=America/Halifax:20200327T170000
DTSTAMP:20260421T223706
CREATED:20200306T132244Z
LAST-MODIFIED:20200316T132749Z
UID:16708-1585317600-1585328400@listuguj.ca
SUMMARY:Cancelled - Indian Day School Workshop
DESCRIPTION:  \n*Cancelled until further notice*\n  \nFor who: Elders who have attended Indian Day School or people applying on behalf of deceased family members \nWhen: Friday\, March 27th\, at 2:00 p.m. \nWhere : Listuguj Community Development Centre (Bingo Hall) \nWhy: to explain the claims process and answer any questions people may have \n  \nCoffee and tea will be served.
URL:https://listuguj.ca/event/indian-day-school-workshop/
LOCATION:Listuguj Community Development Centre\, 42 Dundee Road\, Listuguj\, Quebec\, G0C 2R0\, Canada
CATEGORIES:Listuguj Mi’gmaq Government
ATTACH;FMTTYPE=image/png:https://listuguj.ca/wp-content/uploads/2019/04/20046535_10158938412575328_3188858954418365716_n.png
END:VEVENT
BEGIN:VEVENT
DTSTART;TZID=America/Halifax:20200321T160000
DTEND;TZID=America/Halifax:20200321T210000
DTSTAMP:20260421T223706
CREATED:20200304T131746Z
LAST-MODIFIED:20200316T124119Z
UID:16494-1584806400-1584824400@listuguj.ca
SUMMARY:Cancelled - Pestie'wa'lanej E'pijig - Spring Equinox
DESCRIPTION:  \n*Cancelled until further notice*\n  \nThe Listuguj Mi’gmaq Government will be hosting an event entitled “Pestie’wa’lanej E’pijig” to honour our women on Saturday\, March 21st\, 2020. Doors at the Listuguj Bingo Hall will open at 4:00 p.m. and dinner catered by Twist of Heaven will be served at 5:30 p.m. Entertainment will be provided by the Mi’gmaq Boys. \nTickets are required for entry. They will be available for pick up starting March 5th\, at the Listuguj Bingo Hall. For more information\, please contact Annette Barnaby at 418-788-3000 or 581-884-0723. \n\n\n 
URL:https://listuguj.ca/event/pestiewalanej-epijig-spring-equinox/
LOCATION:Listuguj Community Development Centre\, 42 Dundee Road\, Listuguj\, Quebec\, G0C 2R0\, Canada
CATEGORIES:Listuguj Mi’gmaq Government
ATTACH;FMTTYPE=image/png:https://listuguj.ca/wp-content/uploads/2020/03/spring_poster.png
END:VEVENT
BEGIN:VEVENT
DTSTART;TZID=America/Halifax:20200321T130000
DTEND;TZID=America/Halifax:20200321T170000
DTSTAMP:20260421T223706
CREATED:20200309T132903Z
LAST-MODIFIED:20200316T123432Z
UID:16728-1584795600-1584810000@listuguj.ca
SUMMARY:Cancelled - Basket making for Men
DESCRIPTION:*Cancelled until further notice*\n  \nMarch 21st\, 2020 \n1pm to 5pm \nHaven House \nLimited spots available \nContact Mitchell Isaac @ 418-788-5343 or 506-787-0080
URL:https://listuguj.ca/event/basket-making-for-men/
LOCATION:Listuguj Haven House\, Listuguj\, Quebec
CATEGORIES:Listuguj Community & Social Services Directorate
ATTACH;FMTTYPE=image/png:https://listuguj.ca/wp-content/uploads/2019/04/20046535_10158938412575328_3188858954418365716_n.png
END:VEVENT
BEGIN:VEVENT
DTSTART;VALUE=DATE:20200320
DTEND;VALUE=DATE:20200321
DTSTAMP:20260421T223706
CREATED:20191118T133727Z
LAST-MODIFIED:20200316T124226Z
UID:16125-1584662400-1584748799@listuguj.ca
SUMMARY:Cancelled - Siggw Culture Day
DESCRIPTION:*Cancelled until further notice*\n  \nSiggw Culture Day will be held on Friday\, March 20th\, in the Alaqsite’w Gitpu School gym. Join them in the celebration. More details to come.
URL:https://listuguj.ca/event/siggw-culture-day/
LOCATION:Alaqsite’w Gitpu School
CATEGORIES:Alaqsite’w Gitpu School
ATTACH;FMTTYPE=image/png:https://listuguj.ca/wp-content/uploads/2019/11/AGS.png
END:VEVENT
BEGIN:VEVENT
DTSTART;TZID=America/Halifax:20200318T120000
DTEND;TZID=America/Halifax:20200318T130000
DTSTAMP:20260421T223706
CREATED:20200302T145053Z
LAST-MODIFIED:20200316T124339Z
UID:16503-1584532800-1584536400@listuguj.ca
SUMMARY:Cancelled - Lunch and Learn - Home Care
DESCRIPTION:*Cancelled until further notice*\n  \nWednesday\, March 18\, 2020 \n12:00 pm to 1:00 pm \nElder’s Lodge \nOPEN TO EVERYONE
URL:https://listuguj.ca/event/lunch-and-learn-home-care/
LOCATION:Elders Lodge\, 5 Riverside West\, Listuguj\, Quebec\, G0C 2R0\, Canada
CATEGORIES:Listuguj Community Health Services Directorate
ATTACH;FMTTYPE=image/jpeg:https://listuguj.ca/wp-content/uploads/2019/09/Listuguj-Health-e1605291653888.jpg
END:VEVENT
BEGIN:VEVENT
DTSTART;TZID=America/Halifax:20200313T100000
DTEND;TZID=America/Halifax:20200313T120000
DTSTAMP:20260421T223706
CREATED:20200302T172623Z
LAST-MODIFIED:20200312T161534Z
UID:16519-1584093600-1584100800@listuguj.ca
SUMMARY:Let's Talk Cannabis
DESCRIPTION:  \n**Due to the impending weather the cannabis community session will be rescheduled with a new date TBD.** \n  \n  \nLet’s talk Cannabis. Listuguj Cannabis Control Office is hosting an information session on Friday\, March 13th\, 2020 at 10:00am at the Listuguj Community Development Center (Bingo Hall). Refreshments will be provided.
URL:https://listuguj.ca/event/lets-talk-cannabis/
LOCATION:Listuguj Community Development Centre\, 42 Dundee Road\, Listuguj\, Quebec\, G0C 2R0\, Canada
CATEGORIES:Administration
ATTACH;FMTTYPE=image/png:https://listuguj.ca/wp-content/uploads/2020/03/LetsTalkCannabis-New-Location.png
END:VEVENT
BEGIN:VEVENT
DTSTART;TZID=America/Halifax:20200312T183000
DTEND;TZID=America/Halifax:20200312T200000
DTSTAMP:20260421T223706
CREATED:20200224T151213Z
LAST-MODIFIED:20200311T161119Z
UID:16469-1584037800-1584043200@listuguj.ca
SUMMARY:Cancelled - Harm Reduction Information Session for Community Youth
DESCRIPTION:Cancelled until further notice\n  \nHARM REDUCTION \n“STARTING THE CONVERSATION” \n  \nWhen:  Thursday\, March 12\, 2020 \nTime:  6:30 pm – 8:00 pm \nWhere:  Listuguj Community Development Center (Bingo Hall) \nWho:  Community Youth (ages 15-30) \nWhy:  to get valuable input from community youth \n  \nGuest Speaker:  Dr. Stephanie Marsan \nCHUM University of Montreal Hospital \nSpecializing in Addiction Medicine \n  \nPizza will be served for supper.
URL:https://listuguj.ca/event/harm-reduction-information-session-for-community-youth/
LOCATION:Listuguj Community Development Centre\, 42 Dundee Road\, Listuguj\, Quebec\, G0C 2R0\, Canada
CATEGORIES:Listuguj Community Health Services Directorate
ATTACH;FMTTYPE=image/jpeg:https://listuguj.ca/wp-content/uploads/2019/09/Listuguj-Health-e1605291653888.jpg
END:VEVENT
BEGIN:VEVENT
DTSTART;TZID=America/Halifax:20200312T140000
DTEND;TZID=America/Halifax:20200312T160000
DTSTAMP:20260421T223706
CREATED:20200224T152717Z
LAST-MODIFIED:20200311T161021Z
UID:16472-1584021600-1584028800@listuguj.ca
SUMMARY:Cancelled - Harm Reduction Information Session
DESCRIPTION:  \nCancelled until further notice\n  \nHARM REDUCTION \n“STARTING THE CONVERSATION” \n  \nWhen:  Thursday\, March 12\, 2020 \nTime: 2:00 pm – 4:00 pm \nWhere:  Listuguj Community Development Center (Bingo Hall) \nWho:  Community Members \nWhy: to get your feedback and opinions on Harm Reduction \n  \nGuest Speaker:  Dr. Stephanie Marsan \nCHUM University of Montreal Hospital \nSpecializing in Addiction Medicine \n  \nLight refreshments will be served.
URL:https://listuguj.ca/event/harm-reduction-information-session/
LOCATION:Listuguj Community Development Centre\, 42 Dundee Road\, Listuguj\, Quebec\, G0C 2R0\, Canada
CATEGORIES:Listuguj Community Health Services Directorate
ATTACH;FMTTYPE=image/jpeg:https://listuguj.ca/wp-content/uploads/2019/09/Listuguj-Health-e1605291653888.jpg
END:VEVENT
BEGIN:VEVENT
DTSTART;TZID=America/Halifax:20200228T120000
DTEND;TZID=America/Halifax:20200228T130000
DTSTAMP:20260421T223706
CREATED:20200221T180535Z
LAST-MODIFIED:20200228T115511Z
UID:16462-1582891200-1582894800@listuguj.ca
SUMMARY:Cancelled - Medical Transportation Lunch & Learn
DESCRIPTION:Due to weather and road conditions\, today’s Lunch & Learn with the Listuguj Community Health Services will be rescheduled. Please stay tuned for a new date.
URL:https://listuguj.ca/event/medical-transportation-lunch-learn/
LOCATION:Elders Lodge\, 5 Riverside West\, Listuguj\, Quebec\, G0C 2R0\, Canada
CATEGORIES:Listuguj Community Health Services Directorate
ATTACH;FMTTYPE=image/jpeg:https://listuguj.ca/wp-content/uploads/2019/09/Listuguj-Health-e1605291653888.jpg
END:VEVENT
BEGIN:VEVENT
DTSTART;VALUE=DATE:20200228
DTEND;VALUE=DATE:20200229
DTSTAMP:20260421T223706
CREATED:20200116T184513Z
LAST-MODIFIED:20200128T143833Z
UID:16322-1582848000-1582934399@listuguj.ca
SUMMARY:Photo Submission Deadline - Spring Equinox
DESCRIPTION:The Listuguj Mi’gmaq Government is organizing a Spring Equinox community event to honour our women on March 21st.  We are asking the community to submit a hard copy picture of a woman they would like to see being honored.  The deadline to submit a photo is February 28th. \nPhotos can be dropped off at the Listuguj Community Development Centre (Bingo Hall)\, 42 Dundee Road.  All pictures will be returned. \nMore details about the Spring Equinox to follow.
URL:https://listuguj.ca/event/photo-submission-deadline-spring-solstice/
LOCATION:Listuguj Community Development Centre\, 42 Dundee Road\, Listuguj\, Quebec\, G0C 2R0\, Canada
CATEGORIES:Listuguj Mi’gmaq Government
ATTACH;FMTTYPE=image/png:https://listuguj.ca/wp-content/uploads/2019/04/20046535_10158938412575328_3188858954418365716_n.png
END:VEVENT
BEGIN:VEVENT
DTSTART;TZID=America/Halifax:20200224T080000
DTEND;TZID=America/Halifax:20200224T110000
DTSTAMP:20260421T223706
CREATED:20200221T203243Z
LAST-MODIFIED:20200221T203243Z
UID:16465-1582531200-1582542000@listuguj.ca
SUMMARY:Healthy Breakfast
DESCRIPTION:Monday\, February 24\, 2020\nHealthy Breakfast\n8:00 am to 11:00 am\nElder’s Lodge\nOPEN TO EVERYONE
URL:https://listuguj.ca/event/healthy-breakfast-12/
LOCATION:Elders Lodge\, 5 Riverside West\, Listuguj\, Quebec\, G0C 2R0\, Canada
CATEGORIES:Listuguj Community Health Services Directorate
ATTACH;FMTTYPE=image/jpeg:https://listuguj.ca/wp-content/uploads/2019/09/Listuguj-Health-e1605291653888.jpg
END:VEVENT
BEGIN:VEVENT
DTSTART;TZID=America/Halifax:20200220T100000
DTEND;TZID=America/Halifax:20200220T120000
DTSTAMP:20260421T223706
CREATED:20200214T171431Z
LAST-MODIFIED:20200214T171613Z
UID:16442-1582192800-1582200000@listuguj.ca
SUMMARY:Industry Day Info Session - JC Van Horne Bridge
DESCRIPTION:Please join us on Thursday\, February 20\, 2020 from 10:00 a.m. to 12:00 p.m. at the Natural Resources Boardroom to find out more information on the upcoming Industry Day regarding the JC Van Horne Bridge renovation. The Industry Day is scheduled for February 24th from 1:00 – 5:00 p.m. and is open to all interested community members and businesses.\n\n\n \n\n\nWork is expected to begin in May 2020 for asphalt paving rehabilitation so if you have any interest in finding out more information please join us.
URL:https://listuguj.ca/event/industry-day-info-session-jc-van-horne-bridge/
LOCATION:Natural Resources\, 44 Dundee Road\, Listuguj\, Quebec\, G0C 2R0
CATEGORIES:Listuguj Economic Development Unit
ATTACH;FMTTYPE=image/png:https://listuguj.ca/wp-content/uploads/2019/04/20046535_10158938412575328_3188858954418365716_n.png
END:VEVENT
BEGIN:VEVENT
DTSTART;TZID=America/Halifax:20200216T150000
DTEND;TZID=America/Halifax:20200216T190000
DTSTAMP:20260421T223706
CREATED:20200204T193102Z
LAST-MODIFIED:20200204T193102Z
UID:16397-1581865200-1581879600@listuguj.ca
SUMMARY:Valentine’s Day Child and Elder Gathering 2020
DESCRIPTION:The Listuguj Adult and Elderly Care program is hosting a Valentine’s Day Child and Elder Gathering on Sunday\, February 16th\, at the Community Development Center (Bingo Hall) beginning at 3:00 pm. Every child can invite one adult to this event. There are only 150 seats available\, so please register by Friday\, February 7th. \nA full course spaghetti supper will be catered by Twist of Heaven with entertainment provided by the Mi’gmaq Boys. \nPlease call Molly Bradstreet at 418-788-3039 to register and pick up your tickets.
URL:https://listuguj.ca/event/valentines-day-child-and-elder-gathering-2020/
LOCATION:Listuguj Community Development Centre\, 42 Dundee Road\, Listuguj\, Quebec\, G0C 2R0\, Canada
CATEGORIES:Listuguj Community & Social Services Directorate
ATTACH;FMTTYPE=image/png:https://listuguj.ca/wp-content/uploads/2020/02/announcement-for-tickets.png
END:VEVENT
END:VCALENDAR