BEGIN:VCALENDAR
VERSION:2.0
PRODID:-//Listuguj Mi’gmaq Government - ECPv6.1.3//NONSGML v1.0//EN
CALSCALE:GREGORIAN
METHOD:PUBLISH
X-WR-CALNAME:Listuguj Mi’gmaq Government
X-ORIGINAL-URL:https://listuguj.ca
X-WR-CALDESC:Events for Listuguj Mi’gmaq Government
REFRESH-INTERVAL;VALUE=DURATION:PT1H
X-Robots-Tag:noindex
X-PUBLISHED-TTL:PT1H
BEGIN:VTIMEZONE
TZID:America/Halifax
BEGIN:DAYLIGHT
TZOFFSETFROM:-0400
TZOFFSETTO:-0300
TZNAME:ADT
DTSTART:20230312T060000
END:DAYLIGHT
BEGIN:STANDARD
TZOFFSETFROM:-0300
TZOFFSETTO:-0400
TZNAME:AST
DTSTART:20231105T050000
END:STANDARD
END:VTIMEZONE
BEGIN:VEVENT
DTSTART;TZID=America/Halifax:20231028T100000
DTEND;TZID=America/Halifax:20231028T150000
DTSTAMP:20260422T184615
CREATED:20231017T135323Z
LAST-MODIFIED:20231024T134047Z
UID:27642-1698487200-1698505200@listuguj.ca
SUMMARY:Gepmite'tmg Mi'gmawei Celebration
DESCRIPTION:Join the Mi’gmaw Language Revitilization team for their Gepmite’tmg Mi’gmawei celebration on October 28 from 10AM-2PM.\n\n\n\nTo register\, please contact Mary-Beth Wysote\, Mi’gmaw Language Revitilization Coordinator at mary-beth.wysote@listuguj.ca\n\n\n\nSee the poster below for more details!
URL:https://listuguj.ca/event/gepmitetmg-migmawei-celebration/
LOCATION:Cross Point Hall\, 41 Rue Lasalle\, Pointe-à-la-Croix\, QC
END:VEVENT
BEGIN:VEVENT
DTSTART;VALUE=DATE:20231027
DTEND;VALUE=DATE:20231030
DTSTAMP:20260422T184615
CREATED:20231024T134850Z
LAST-MODIFIED:20231024T134850Z
UID:27787-1698364800-1698623999@listuguj.ca
SUMMARY:Men's Moose Hunt Retreat
DESCRIPTION:Listuguj Culture and Family Support – Family Violence Prevention Program will be hosting a Men’s Moose Hunt Retreat on October 27\, 28 and 29 at Erwin Molley’s Camp.\n\n\nThere will be activities in between the hunt and food will be provided. All experience levels welcome.\n\n\nFor more information\, please contact Mitchell Isaac 506-787-0080 or Erwin Molley 418-788-3150.
URL:https://listuguj.ca/event/mens-moose-hunt-retreat/
LOCATION:Erwin’s Camp
END:VEVENT
BEGIN:VEVENT
DTSTART;VALUE=DATE:20231027
DTEND;VALUE=DATE:20231028
DTSTAMP:20260422T184615
CREATED:20231024T133331Z
LAST-MODIFIED:20231024T133331Z
UID:27766-1698364800-1698451199@listuguj.ca
SUMMARY:Halloween Decoration Contest
DESCRIPTION:
URL:https://listuguj.ca/event/halloween-decoration-contest/
LOCATION:Listuguj Police Department\, 3 Lnu Street\, Listuguj\, Quebec\, G0C 2R0\, Canada
END:VEVENT
BEGIN:VEVENT
DTSTART;VALUE=DATE:20231009
DTEND;VALUE=DATE:20231010
DTSTAMP:20260422T184615
CREATED:20230912T174032Z
LAST-MODIFIED:20230912T174046Z
UID:27429-1696809600-1696895999@listuguj.ca
SUMMARY:LMG Closed for Thanksgiving
DESCRIPTION:
URL:https://listuguj.ca/event/thanksgiving/
LOCATION:Quebec
END:VEVENT
BEGIN:VEVENT
DTSTART;TZID=America/Halifax:20231004T180000
DTEND;TZID=America/Halifax:20231004T200000
DTSTAMP:20260422T184615
CREATED:20230925T132224Z
LAST-MODIFIED:20230925T132224Z
UID:27553-1696442400-1696449600@listuguj.ca
SUMMARY:Cancer Awareness Walk
DESCRIPTION:
URL:https://listuguj.ca/event/cancer-awareness-walk/
LOCATION:Jack Wysote Memorial Ball Field
END:VEVENT
BEGIN:VEVENT
DTSTART;VALUE=DATE:20231003
DTEND;VALUE=DATE:20231004
DTSTAMP:20260422T184615
CREATED:20230912T173704Z
LAST-MODIFIED:20230912T173704Z
UID:27422-1696291200-1696377599@listuguj.ca
SUMMARY:LMG Closed for Treaty Day
DESCRIPTION:
URL:https://listuguj.ca/event/lmg-closed-for-treaty-day-4/
LOCATION:Quebec
END:VEVENT
BEGIN:VEVENT
DTSTART;VALUE=DATE:20231002
DTEND;VALUE=DATE:20231003
DTSTAMP:20260422T184615
CREATED:20230912T173542Z
LAST-MODIFIED:20230912T173542Z
UID:27418-1696204800-1696291199@listuguj.ca
SUMMARY:LMG Closed for National Truth & Reconciliation Day
DESCRIPTION:
URL:https://listuguj.ca/event/lmg-closed-for-national-truth-reconciliation-day/
LOCATION:Quebec
END:VEVENT
BEGIN:VEVENT
DTSTART;VALUE=DATE:20231001
DTEND;VALUE=DATE:20231002
DTSTAMP:20260422T184615
CREATED:20230912T172730Z
LAST-MODIFIED:20230912T173728Z
UID:27404-1696118400-1696204799@listuguj.ca
SUMMARY:Treaty Day
DESCRIPTION:
URL:https://listuguj.ca/event/treaty-day/
LOCATION:Quebec
END:VEVENT
BEGIN:VEVENT
DTSTART;TZID=America/Halifax:20230930T110000
DTEND;TZID=America/Halifax:20230930T130000
DTSTAMP:20260422T184615
CREATED:20230907T164327Z
LAST-MODIFIED:20230912T172841Z
UID:27361-1696071600-1696078800@listuguj.ca
SUMMARY:LCHS Turkey Dinner
DESCRIPTION:
URL:https://listuguj.ca/event/lchs-turkey-dinner/
LOCATION:Listuguj Community Development Centre\, 42 Dundee Road\, Listuguj\, Quebec\, G0C 2R0\, Canada
END:VEVENT
BEGIN:VEVENT
DTSTART;TZID=America/Halifax:20230930T090000
DTEND;TZID=America/Halifax:20230930T100000
DTSTAMP:20260422T184615
CREATED:20230928T145807Z
LAST-MODIFIED:20230928T145807Z
UID:27591-1696064400-1696068000@listuguj.ca
SUMMARY:Opening Day Ceremony - 21B Fall Lobster Fishery
DESCRIPTION:
URL:https://listuguj.ca/event/opening-day-ceremony-21b-fall-lobster-fishery/
LOCATION:Listuguj Wharf
END:VEVENT
BEGIN:VEVENT
DTSTART;VALUE=DATE:20230930
DTEND;VALUE=DATE:20231001
DTSTAMP:20260422T184615
CREATED:20230907T164407Z
LAST-MODIFIED:20230912T173813Z
UID:27364-1696032000-1696118399@listuguj.ca
SUMMARY:National Truth & Reconciliation Day
DESCRIPTION:
URL:https://listuguj.ca/event/national-truth-reconciliation-day/
LOCATION:Quebec
END:VEVENT
BEGIN:VEVENT
DTSTART;TZID=America/Halifax:20230919T170000
DTEND;TZID=America/Halifax:20230919T190000
DTSTAMP:20260422T184615
CREATED:20230914T145032Z
LAST-MODIFIED:20230914T145032Z
UID:27494-1695142800-1695150000@listuguj.ca
SUMMARY:Ghost Gear Community Presentation
DESCRIPTION:
URL:https://listuguj.ca/event/ghost-gear-community-presentation/
LOCATION:Listuguj Community Hall
CATEGORIES:Listuguj Natural Resources Directorate
END:VEVENT
BEGIN:VEVENT
DTSTART;TZID=America/Halifax:20230825T090000
DTEND;TZID=America/Halifax:20230825T160000
DTSTAMP:20260422T184615
CREATED:20230809T144709Z
LAST-MODIFIED:20230809T144709Z
UID:27260-1692954000-1692979200@listuguj.ca
SUMMARY:Mi'gmawei Mi'majuagan
DESCRIPTION:To register for this event contact Mary-Beth.Wysote@listuguj.ca \n  \nSee poster below for details: \n 
URL:https://listuguj.ca/event/migmawei-mimajuagan/
LOCATION:Apo’qon’ma’tultinej Building
CATEGORIES:Listuguj Mi’gmaq Government
ATTACH;FMTTYPE=image/png:https://listuguj.ca/wp-content/uploads/2021/08/LMG-Logo.png
END:VEVENT
BEGIN:VEVENT
DTSTART;VALUE=DATE:20230823
DTEND;VALUE=DATE:20230824
DTSTAMP:20260422T184615
CREATED:20230511T135824Z
LAST-MODIFIED:20230511T135824Z
UID:26768-1692748800-1692835199@listuguj.ca
SUMMARY:Jack Wysote's Commemorative 50th Anniversary
DESCRIPTION:There will be a celebration for Jack Wysote’s 50th anniversary in the community on August 23rd.\nThe day will include presentations\, a baseball game\, supper\, prizes\, and live music from The Relatives.\n\n\nSee poster for the details.
URL:https://listuguj.ca/event/jack-wysotes-commemorative-50th-anniversary/
LOCATION:Listuguj Community Development Centre\, 42 Dundee Road\, Listuguj\, Quebec\, G0C 2R0\, Canada
ATTACH;FMTTYPE=image/png:https://listuguj.ca/wp-content/uploads/2021/08/LMG-Logo.png
END:VEVENT
BEGIN:VEVENT
DTSTART;TZID=America/Halifax:20230821T170000
DTEND;TZID=America/Halifax:20230821T200000
DTSTAMP:20260422T184615
CREATED:20230814T121732Z
LAST-MODIFIED:20230814T121746Z
UID:27268-1692637200-1692648000@listuguj.ca
SUMMARY:Youth Art Gala
DESCRIPTION:The CCP Team will be hosting a Youth Art Gala on Monday\, August 21\, 2023 from 5pm-8pm at the Community Development Centre.\n\n\nWe hope to see you all there to take in all the beautiful art from our Listuguj youth!
URL:https://listuguj.ca/event/youth-art-gala/
LOCATION:Listuguj Community Development Centre\, 42 Dundee Road\, Listuguj\, Quebec\, G0C 2R0\, Canada
CATEGORIES:CCP events,Listuguj Mi’gmaq Government
ATTACH;FMTTYPE=image/jpeg:https://listuguj.ca/wp-content/uploads/2023/08/Youth-Art-Gala-scaled.jpg
ORGANIZER;CN="Listuguj%20Mi%27gmaq%20Government":MAILTO:misaac@listuguj.ca
END:VEVENT
BEGIN:VEVENT
DTSTART;TZID=America/Halifax:20230818T090000
DTEND;TZID=America/Halifax:20230818T120000
DTSTAMP:20260422T184615
CREATED:20230725T124548Z
LAST-MODIFIED:20230725T124548Z
UID:27206-1692349200-1692360000@listuguj.ca
SUMMARY:Listuguj Language Learning Nest Open House
DESCRIPTION:There will be a Listuguj Language Learning Nest Open House on August 18th. \n  \nSee poster for details. \n 
URL:https://listuguj.ca/event/listuguj-language-learning-nest-open-house/
LOCATION:Listuguj Education Complex
CATEGORIES:Listuguj Community Health Services Directorate
ATTACH;FMTTYPE=image/png:https://listuguj.ca/wp-content/uploads/2021/07/LMG-Logo.png
END:VEVENT
BEGIN:VEVENT
DTSTART;VALUE=DATE:20230804
DTEND;VALUE=DATE:20230807
DTSTAMP:20260422T184615
CREATED:20230725T123621Z
LAST-MODIFIED:20230725T123621Z
UID:27201-1691107200-1691366399@listuguj.ca
SUMMARY:Listuguj Pow Wow
DESCRIPTION:The annual Pow Wow will be happening August 5th and 6th. \n  \nSee poster for details. \n 
URL:https://listuguj.ca/event/listuguj-pow-wow/
LOCATION:Listuguj Pow Wow Grounds
CATEGORIES:Listuguj Mi’gmaq Government
ATTACH;FMTTYPE=image/png:https://listuguj.ca/wp-content/uploads/2021/08/LMG-Logo.png
END:VEVENT
BEGIN:VEVENT
DTSTART;VALUE=DATE:20230717
DTEND;VALUE=DATE:20230728
DTSTAMP:20260422T184616
CREATED:20230626T182333Z
LAST-MODIFIED:20230626T182333Z
UID:26954-1689552000-1690502399@listuguj.ca
SUMMARY:Ghost Gear Retrieval Workshop
DESCRIPTION:The Natural Resources Directorate and Fisheries are offering a Ghost Gear Retrieval Workshop in the community. \n 
URL:https://listuguj.ca/event/ghost-gear-retrieval-workshop/
LOCATION:Listuguj Mi’gmaq Development Centre\, 2 Pacific Drive\, Listuguj\, Quebec\, G0C 2R0\, Canada
CATEGORIES:Listuguj Natural Resources Directorate
ATTACH;FMTTYPE=image/png:https://listuguj.ca/wp-content/uploads/2021/08/LMG-Logo.png
END:VEVENT
BEGIN:VEVENT
DTSTART;TZID=America/Halifax:20230714T113000
DTEND;TZID=America/Halifax:20230714T150000
DTSTAMP:20260422T184616
CREATED:20230707T113253Z
LAST-MODIFIED:20230707T113253Z
UID:27079-1689334200-1689346800@listuguj.ca
SUMMARY:Listuguj Bicycle Rodeo
DESCRIPTION:The Listuguj Police and Listuguj Health and Community Services are holding a bike rodeo on July 14th! \n 
URL:https://listuguj.ca/event/listuguj-bicycle-rodeo/
LOCATION:Listuguj Police Department\, 3 Lnu Street\, Listuguj\, Quebec\, G0C 2R0\, Canada
CATEGORIES:Listuguj Community Health Services Directorate,Listuguj Public Safety Directorate
ATTACH;FMTTYPE=image/png:https://listuguj.ca/wp-content/uploads/2021/08/LMG-Logo.png
END:VEVENT
BEGIN:VEVENT
DTSTART;TZID=America/Halifax:20230713T183000
DTEND;TZID=America/Halifax:20230713T193000
DTSTAMP:20260422T184616
CREATED:20230706T162930Z
LAST-MODIFIED:20230706T162930Z
UID:27070-1689273000-1689276600@listuguj.ca
SUMMARY:NAIG Send Off/Parade
DESCRIPTION:The Listuguj Sports and Recreation Program will be hosting a sendoff parade/event for NAIG athletes and coaches that will be taking place on Thursday\, July 13th from 6:30 PM to 7:30 PM. For the parade\, we will meet at Wysotes at 6:15 PM in order to be ready to take off at 6:30 PM to make our way to the Youth Center. Words of encouragement will be provided to athletes and coaches\, and refreshments will be served at the Youth Center until 7:30 PM before our drop-in hours commence.
URL:https://listuguj.ca/event/naig-send-off-parade/
LOCATION:Youth and Family Centre\, 19B Riverside West\, Listuguj\, Quebec\, G0C 2R0\, Canada
CATEGORIES:Youth and Family Centre
ATTACH;FMTTYPE=image/png:https://listuguj.ca/wp-content/uploads/2021/08/LMG-Logo.png
END:VEVENT
BEGIN:VEVENT
DTSTART;VALUE=DATE:20230705
DTEND;VALUE=DATE:20230727
DTSTAMP:20260422T184616
CREATED:20230630T140455Z
LAST-MODIFIED:20230630T140455Z
UID:27044-1688515200-1690415999@listuguj.ca
SUMMARY:Grief - A Part of Life Events
DESCRIPTION:Families First Support Services will be holding various events on grief.\nFor details\, see poster.
URL:https://listuguj.ca/event/grief-a-part-of-life-events/
LOCATION:Etlinpisulti’gw Healing Grounds
CATEGORIES:Listuguj Community & Social Services Directorate
ATTACH;FMTTYPE=image/png:https://listuguj.ca/wp-content/uploads/2021/08/LMG-Logo.png
END:VEVENT
BEGIN:VEVENT
DTSTART;TZID=America/Halifax:20230621T120000
DTEND;TZID=America/Halifax:20230621T150000
DTSTAMP:20260422T184616
CREATED:20230620T114354Z
LAST-MODIFIED:20230620T114354Z
UID:26923-1687348800-1687359600@listuguj.ca
SUMMARY:National Indigenous Peoples Day Celebration
DESCRIPTION:There will be a National Indigenous People’s Day Celebration happening at the Jack Memorial Ballfield. \nSee poster for details: \n 
URL:https://listuguj.ca/event/national-indigenous-peoples-day-celebration/
LOCATION:Jack Wysote Memorial Ball Field
CATEGORIES:Listuguj Community Health Services Directorate
ATTACH;FMTTYPE=image/png:https://listuguj.ca/wp-content/uploads/2021/08/LMG-Logo.png
END:VEVENT
BEGIN:VEVENT
DTSTART;VALUE=DATE:20230612
DTEND;VALUE=DATE:20230613
DTSTAMP:20260422T184616
CREATED:20220615T143838Z
LAST-MODIFIED:20220615T143838Z
UID:24820-1686528000-1686614399@listuguj.ca
SUMMARY:LMG Closed for Migwite'tm'nej
DESCRIPTION:
URL:https://listuguj.ca/event/lmg-closed-for-migwitetmnej/
LOCATION:Quebec
CATEGORIES:Listuguj Mi’gmaq Government
END:VEVENT
BEGIN:VEVENT
DTSTART;VALUE=DATE:20230611
DTEND;VALUE=DATE:20230612
DTSTAMP:20260422T184616
CREATED:20230607T144839Z
LAST-MODIFIED:20230607T144839Z
UID:26847-1686441600-1686527999@listuguj.ca
SUMMARY:Migwite’tm 81 Commemorative Event
DESCRIPTION:Listuguj’s Migwite’tm 81 Commemoration Event is happening on Sunday\, June 11th.\n\n\nSee poster for details.
URL:https://listuguj.ca/event/migwitetm-81-commemorative-event/
LOCATION:Listuguj Pow Wow Grounds
CATEGORIES:Listuguj Natural Resources Directorate
ATTACH;FMTTYPE=image/png:https://listuguj.ca/wp-content/uploads/2021/08/LMG-Logo.png
END:VEVENT
BEGIN:VEVENT
DTSTART;VALUE=DATE:20230522
DTEND;VALUE=DATE:20230523
DTSTAMP:20260422T184616
CREATED:20220615T143537Z
LAST-MODIFIED:20220617T120939Z
UID:24817-1684713600-1684799999@listuguj.ca
SUMMARY:LMG Closed for Victoria Day
DESCRIPTION:
URL:https://listuguj.ca/event/lmg-closed-for-victoria-day/
LOCATION:Quebec
CATEGORIES:Listuguj Mi’gmaq Government
ATTACH;FMTTYPE=image/jpeg:https://listuguj.ca/wp-content/uploads/2022/06/Victoria-Day-TV-2023.jpg
END:VEVENT
BEGIN:VEVENT
DTSTART;TZID=America/Halifax:20230513T170000
DTEND;TZID=America/Halifax:20230513T233000
DTSTAMP:20260422T184616
CREATED:20230306T133104Z
LAST-MODIFIED:20230306T133104Z
UID:26433-1683997200-1684020600@listuguj.ca
SUMMARY:Mother's Day Social
DESCRIPTION:There will be a Mother’s Day Social on Saturday\, May 13th at the Listuguj Community Center.\n\n\nFor information and tickets\, please contact Annette Barnaby or Rose Vicaire.
URL:https://listuguj.ca/event/mothers-day-social/
LOCATION:Listuguj Community Development Centre\, 42 Dundee Road\, Listuguj\, Quebec\, G0C 2R0\, Canada
END:VEVENT
BEGIN:VEVENT
DTSTART;TZID=America/Halifax:20230511T083000
DTEND;TZID=America/Halifax:20230511T110000
DTSTAMP:20260422T184616
CREATED:20230503T113551Z
LAST-MODIFIED:20230503T113551Z
UID:26737-1683793800-1683802800@listuguj.ca
SUMMARY:Healthy Breakfast
DESCRIPTION:There will be a Healthy Breakfast happening on May 11th at the Elder’s Lodge.\nSee poster for details!
URL:https://listuguj.ca/event/healthy-breakfast-19/
LOCATION:Elders Lodge\, 5 Riverside West\, Listuguj\, Quebec\, G0C 2R0\, Canada
CATEGORIES:Listuguj Community Health Services Directorate
END:VEVENT
BEGIN:VEVENT
DTSTART;TZID=America/Halifax:20230505T170000
DTEND;TZID=America/Halifax:20230505T190000
DTSTAMP:20260422T184616
CREATED:20230424T120854Z
LAST-MODIFIED:20230424T120854Z
UID:26674-1683306000-1683313200@listuguj.ca
SUMMARY:Aboriginal Title Presentation
DESCRIPTION:There will be an Aboriginal Title Presentation happening at the Listuguj Community Development Centre on May 4th.\nSee poster for details. \n 
URL:https://listuguj.ca/event/aboriginal-title-presentation/
LOCATION:Listuguj Community Development Centre\, 42 Dundee Road\, Listuguj\, Quebec\, G0C 2R0\, Canada
CATEGORIES:Listuguj Mi’gmaq Government
ATTACH;FMTTYPE=image/png:https://listuguj.ca/wp-content/uploads/2021/08/LMG-Logo.png
END:VEVENT
BEGIN:VEVENT
DTSTART;TZID=America/Halifax:20230505T100000
DTEND;TZID=America/Halifax:20230505T150000
DTSTAMP:20260422T184616
CREATED:20230426T134846Z
LAST-MODIFIED:20230426T134846Z
UID:26707-1683280800-1683298800@listuguj.ca
SUMMARY:Earth Day Plant Giveaway
DESCRIPTION:On Friday\, May 5th there will be a plant giveaway at the Elder’s Lodge.\nSee poster for details.
URL:https://listuguj.ca/event/earth-day-plant-giveaway/
LOCATION:Elders Lodge\, 5 Riverside West\, Listuguj\, Quebec\, G0C 2R0\, Canada
CATEGORIES:Listuguj Community Health Services Directorate
ATTACH;FMTTYPE=image/png:https://listuguj.ca/wp-content/uploads/2021/08/LMG-Logo.png
END:VEVENT
BEGIN:VEVENT
DTSTART;TZID=America/Halifax:20230427T120000
DTEND;TZID=America/Halifax:20230427T140000
DTSTAMP:20260422T184616
CREATED:20230425T183109Z
LAST-MODIFIED:20230425T183109Z
UID:26694-1682596800-1682604000@listuguj.ca
SUMMARY:Gut Health Lunch & Learn
DESCRIPTION:There will be a Gut Health Lunch & Learn on April 27th at the Elder’s Lodge.\nSee poster for details: \n 
URL:https://listuguj.ca/event/gut-health-lunch-learn/
LOCATION:Elders Lodge\, 5 Riverside West\, Listuguj\, Quebec\, G0C 2R0\, Canada
CATEGORIES:Listuguj Community Health Services Directorate
ATTACH;FMTTYPE=image/png:https://listuguj.ca/wp-content/uploads/2021/08/LMG-Logo.png
END:VEVENT
END:VCALENDAR