BEGIN:VCALENDAR
VERSION:2.0
PRODID:-//Listuguj Mi’gmaq Government - ECPv6.1.3//NONSGML v1.0//EN
CALSCALE:GREGORIAN
METHOD:PUBLISH
X-ORIGINAL-URL:https://listuguj.ca
X-WR-CALDESC:Events for Listuguj Mi’gmaq Government
REFRESH-INTERVAL;VALUE=DURATION:PT1H
X-Robots-Tag:noindex
X-PUBLISHED-TTL:PT1H
BEGIN:VTIMEZONE
TZID:America/Halifax
BEGIN:DAYLIGHT
TZOFFSETFROM:-0400
TZOFFSETTO:-0300
TZNAME:ADT
DTSTART:20230312T060000
END:DAYLIGHT
BEGIN:STANDARD
TZOFFSETFROM:-0300
TZOFFSETTO:-0400
TZNAME:AST
DTSTART:20231105T050000
END:STANDARD
END:VTIMEZONE
BEGIN:VEVENT
DTSTART;VALUE=DATE:20230930
DTEND;VALUE=DATE:20231001
DTSTAMP:20260422T152831
CREATED:20230907T164407Z
LAST-MODIFIED:20230912T173813Z
UID:27364-1696032000-1696118399@listuguj.ca
SUMMARY:National Truth & Reconciliation Day
DESCRIPTION:
URL:https://listuguj.ca/event/national-truth-reconciliation-day/
LOCATION:Quebec
END:VEVENT
BEGIN:VEVENT
DTSTART;TZID=America/Halifax:20230930T090000
DTEND;TZID=America/Halifax:20230930T100000
DTSTAMP:20260422T152831
CREATED:20230928T145807Z
LAST-MODIFIED:20230928T145807Z
UID:27591-1696064400-1696068000@listuguj.ca
SUMMARY:Opening Day Ceremony - 21B Fall Lobster Fishery
DESCRIPTION:
URL:https://listuguj.ca/event/opening-day-ceremony-21b-fall-lobster-fishery/
LOCATION:Listuguj Wharf
END:VEVENT
BEGIN:VEVENT
DTSTART;TZID=America/Halifax:20230930T110000
DTEND;TZID=America/Halifax:20230930T130000
DTSTAMP:20260422T152831
CREATED:20230907T164327Z
LAST-MODIFIED:20230912T172841Z
UID:27361-1696071600-1696078800@listuguj.ca
SUMMARY:LCHS Turkey Dinner
DESCRIPTION:
URL:https://listuguj.ca/event/lchs-turkey-dinner/
LOCATION:Listuguj Community Development Centre\, 42 Dundee Road\, Listuguj\, Quebec\, G0C 2R0\, Canada
END:VEVENT
END:VCALENDAR